BEGIN:VCALENDAR
VERSION:2.0
PRODID:-//The Motoring Diary - ECPv6.15.20//NONSGML v1.0//EN
CALSCALE:GREGORIAN
METHOD:PUBLISH
X-WR-CALNAME:The Motoring Diary
X-ORIGINAL-URL:http://themotoringdiary.com
X-WR-CALDESC:Events for The Motoring Diary
REFRESH-INTERVAL;VALUE=DURATION:PT1H
X-Robots-Tag:noindex
X-PUBLISHED-TTL:PT1H
BEGIN:VTIMEZONE
TZID:Europe/London
BEGIN:DAYLIGHT
TZOFFSETFROM:+0000
TZOFFSETTO:+0100
TZNAME:BST
DTSTART:20210328T010000
END:DAYLIGHT
BEGIN:STANDARD
TZOFFSETFROM:+0100
TZOFFSETTO:+0000
TZNAME:GMT
DTSTART:20211031T010000
END:STANDARD
BEGIN:DAYLIGHT
TZOFFSETFROM:+0000
TZOFFSETTO:+0100
TZNAME:BST
DTSTART:20220327T010000
END:DAYLIGHT
BEGIN:STANDARD
TZOFFSETFROM:+0100
TZOFFSETTO:+0000
TZNAME:GMT
DTSTART:20221030T010000
END:STANDARD
BEGIN:DAYLIGHT
TZOFFSETFROM:+0000
TZOFFSETTO:+0100
TZNAME:BST
DTSTART:20230326T010000
END:DAYLIGHT
BEGIN:STANDARD
TZOFFSETFROM:+0100
TZOFFSETTO:+0000
TZNAME:GMT
DTSTART:20231029T010000
END:STANDARD
END:VTIMEZONE
BEGIN:VEVENT
DTSTART;VALUE=DATE:20220710
DTEND;VALUE=DATE:20220711
DTSTAMP:20260423T143301
CREATED:20211223T201045Z
LAST-MODIFIED:20220111T092705Z
UID:36950-1657411200-1657497599@themotoringdiary.com
SUMMARY:Simply Land Rover
DESCRIPTION:We are pleased to announce the return of Simply Land Rover in 2022 on Sunday 10th July. All Land Rover owners are invited to drive into Beaulieu and park up within the museum parkland for what promises to be a superb day out for both Land Rover owners and enthusiasts.\nAll ages and models of Land Rover are welcome\, which provides a great opportunity to admire some stunning vehicles on display. \nAll participants have the opportunity to be chosen as the winner of the People’s Choice Award\, selected by public vote. Prizes will be awarded to the winner and runners-up.
URL:http://themotoringdiary.com/event/simply-land-rover/
LOCATION:National Motor Museum\, Beaulieu\, Brockenhurst\, Beaulieu\, Hampshire\, SO42 7ZN\, United Kingdom
CATEGORIES:2022,Classic Car Show,Museums,National Motor Museum,Shows
ATTACH;FMTTYPE=image/png:http://themotoringdiary.com/wp-content/uploads/2021/11/Beaulieu.png
ORGANIZER;CN="National Motor Museum%2C Beaulieu":MAILTO:info@beaulieu.co.uk
GEO:50.8230206;-1.4536012
X-APPLE-STRUCTURED-LOCATION;VALUE=URI;X-ADDRESS=National Motor Museum Beaulieu Brockenhurst Beaulieu Hampshire SO42 7ZN United Kingdom;X-APPLE-RADIUS=500;X-TITLE=Brockenhurst:geo:-1.4536012,50.8230206
END:VEVENT
END:VCALENDAR