BEGIN:VCALENDAR
VERSION:2.0
PRODID:-//The Motoring Diary - ECPv6.15.20//NONSGML v1.0//EN
CALSCALE:GREGORIAN
METHOD:PUBLISH
X-WR-CALNAME:The Motoring Diary
X-ORIGINAL-URL:http://themotoringdiary.com
X-WR-CALDESC:Events for The Motoring Diary
REFRESH-INTERVAL;VALUE=DURATION:PT1H
X-Robots-Tag:noindex
X-PUBLISHED-TTL:PT1H
BEGIN:VTIMEZONE
TZID:Europe/London
BEGIN:DAYLIGHT
TZOFFSETFROM:+0000
TZOFFSETTO:+0100
TZNAME:BST
DTSTART:20210328T010000
END:DAYLIGHT
BEGIN:STANDARD
TZOFFSETFROM:+0100
TZOFFSETTO:+0000
TZNAME:GMT
DTSTART:20211031T010000
END:STANDARD
BEGIN:DAYLIGHT
TZOFFSETFROM:+0000
TZOFFSETTO:+0100
TZNAME:BST
DTSTART:20220327T010000
END:DAYLIGHT
BEGIN:STANDARD
TZOFFSETFROM:+0100
TZOFFSETTO:+0000
TZNAME:GMT
DTSTART:20221030T010000
END:STANDARD
BEGIN:DAYLIGHT
TZOFFSETFROM:+0000
TZOFFSETTO:+0100
TZNAME:BST
DTSTART:20230326T010000
END:DAYLIGHT
BEGIN:STANDARD
TZOFFSETFROM:+0100
TZOFFSETTO:+0000
TZNAME:GMT
DTSTART:20231029T010000
END:STANDARD
END:VTIMEZONE
BEGIN:VEVENT
DTSTART;VALUE=DATE:20220626
DTEND;VALUE=DATE:20220627
DTSTAMP:20260421T101149
CREATED:20211223T201045Z
LAST-MODIFIED:20220111T092717Z
UID:36948-1656201600-1656287999@themotoringdiary.com
SUMMARY:Simply Jaguar
DESCRIPTION:All Jaguar owners are invited to drive into Beaulieu on 26 June and park up in the National Motor Museum grounds for a superb day that Jaguar owners and enthusiasts alike will love.\nAll ages and models of Jaguar are welcome\, which provides a great opportunity to admire some stunning vehicles on display.
URL:http://themotoringdiary.com/event/simply-jaguar/
LOCATION:National Motor Museum\, Beaulieu\, Brockenhurst\, Beaulieu\, Hampshire\, SO42 7ZN\, United Kingdom
CATEGORIES:2022,Classic Car Show,Museums,National Motor Museum,Shows
ATTACH;FMTTYPE=image/png:http://themotoringdiary.com/wp-content/uploads/2021/11/Beaulieu.png
ORGANIZER;CN="National Motor Museum%2C Beaulieu":MAILTO:info@beaulieu.co.uk
GEO:50.8230206;-1.4536012
X-APPLE-STRUCTURED-LOCATION;VALUE=URI;X-ADDRESS=National Motor Museum Beaulieu Brockenhurst Beaulieu Hampshire SO42 7ZN United Kingdom;X-APPLE-RADIUS=500;X-TITLE=Brockenhurst:geo:-1.4536012,50.8230206
END:VEVENT
END:VCALENDAR