BEGIN:VCALENDAR
VERSION:2.0
PRODID:-//The Motoring Diary - ECPv6.15.20//NONSGML v1.0//EN
CALSCALE:GREGORIAN
METHOD:PUBLISH
X-WR-CALNAME:The Motoring Diary
X-ORIGINAL-URL:http://themotoringdiary.com
X-WR-CALDESC:Events for The Motoring Diary
REFRESH-INTERVAL;VALUE=DURATION:PT1H
X-Robots-Tag:noindex
X-PUBLISHED-TTL:PT1H
BEGIN:VTIMEZONE
TZID:Europe/London
BEGIN:DAYLIGHT
TZOFFSETFROM:+0000
TZOFFSETTO:+0100
TZNAME:BST
DTSTART:20210328T010000
END:DAYLIGHT
BEGIN:STANDARD
TZOFFSETFROM:+0100
TZOFFSETTO:+0000
TZNAME:GMT
DTSTART:20211031T010000
END:STANDARD
BEGIN:DAYLIGHT
TZOFFSETFROM:+0000
TZOFFSETTO:+0100
TZNAME:BST
DTSTART:20220327T010000
END:DAYLIGHT
BEGIN:STANDARD
TZOFFSETFROM:+0100
TZOFFSETTO:+0000
TZNAME:GMT
DTSTART:20221030T010000
END:STANDARD
BEGIN:DAYLIGHT
TZOFFSETFROM:+0000
TZOFFSETTO:+0100
TZNAME:BST
DTSTART:20230326T010000
END:DAYLIGHT
BEGIN:STANDARD
TZOFFSETFROM:+0100
TZOFFSETTO:+0000
TZNAME:GMT
DTSTART:20231029T010000
END:STANDARD
END:VTIMEZONE
BEGIN:VEVENT
DTSTART;VALUE=DATE:20220514
DTEND;VALUE=DATE:20220520
DTSTAMP:20260423T193550
CREATED:20211230T141506Z
LAST-MODIFIED:20220113T155946Z
UID:37745-1652486400-1653004799@themotoringdiary.com
SUMMARY:Rallye des Princesses
DESCRIPTION:The Rallye des Princesses Richard Mille is a 100 % female event dedicated to women who are passionate lovers of collector cars and motor sport. This regularity rally has been held for more than 20 years on the most beautiful roads in France and it unites exceptional women around the same exclusive passion.
URL:http://themotoringdiary.com/event/rallye-des-princesses/
LOCATION:France\, Bastia\, Frankreich\, France
CATEGORIES:2022,Historic,Motorsport,Peter Auto
ATTACH;FMTTYPE=image/png:http://themotoringdiary.com/wp-content/uploads/2021/11/Rallye-des-Princesses.png
ORGANIZER;CN="Peter Auto":MAILTO:info@peter.fr
GEO:42.697283;9.450881
END:VEVENT
END:VCALENDAR