BEGIN:VCALENDAR
VERSION:2.0
PRODID:-//The Motoring Diary - ECPv6.15.20//NONSGML v1.0//EN
CALSCALE:GREGORIAN
METHOD:PUBLISH
X-WR-CALNAME:The Motoring Diary
X-ORIGINAL-URL:http://themotoringdiary.com
X-WR-CALDESC:Events for The Motoring Diary
REFRESH-INTERVAL;VALUE=DURATION:PT1H
X-Robots-Tag:noindex
X-PUBLISHED-TTL:PT1H
BEGIN:VTIMEZONE
TZID:Europe/London
BEGIN:DAYLIGHT
TZOFFSETFROM:+0000
TZOFFSETTO:+0100
TZNAME:BST
DTSTART:20210328T010000
END:DAYLIGHT
BEGIN:STANDARD
TZOFFSETFROM:+0100
TZOFFSETTO:+0000
TZNAME:GMT
DTSTART:20211031T010000
END:STANDARD
BEGIN:DAYLIGHT
TZOFFSETFROM:+0000
TZOFFSETTO:+0100
TZNAME:BST
DTSTART:20220327T010000
END:DAYLIGHT
BEGIN:STANDARD
TZOFFSETFROM:+0100
TZOFFSETTO:+0000
TZNAME:GMT
DTSTART:20221030T010000
END:STANDARD
BEGIN:DAYLIGHT
TZOFFSETFROM:+0000
TZOFFSETTO:+0100
TZNAME:BST
DTSTART:20230326T010000
END:DAYLIGHT
BEGIN:STANDARD
TZOFFSETFROM:+0100
TZOFFSETTO:+0000
TZNAME:GMT
DTSTART:20231029T010000
END:STANDARD
END:VTIMEZONE
BEGIN:VEVENT
DTSTART;VALUE=DATE:20221103
DTEND;VALUE=DATE:20221107
DTSTAMP:20260426T013530
CREATED:20220104T180013Z
LAST-MODIFIED:20220112T200110Z
UID:37903-1667433600-1667779199@themotoringdiary.com
SUMMARY:RAC Rally of the Tests
DESCRIPTION:The 20th Anniversary of the Rally that is the ultimate test of both driving ability and endurance. If there was a choice of only ever doing one event again\, many seasoned entrants would surely choose the beguiling and perennial RAC Rally of the Tests – The one they all want to win.\nThe anniversary edition will honour the traditions of the past in the greatest possible fashion\, with the historic route of Blackpool to Torquay\, beginning under the famous illuminations and ending on the English Riviera. \nIn between this\, the rally will drive in the wheel tracks of past greats\, scaling heights and standing on the shoulders of giants in Wales\, including Epynt\, and relishing in the challenges of the narrow roads of the South-West\, as well as being stuffed full of challenging off-road tests. \nThere will be celebrations aplenty to mark the anniversary milestone\, but the biggest tribute will come in the form of a route of the upmost integrity and a competition that is always undertaken in reverence to our traditions and will undoubtedly be fought hard.
URL:http://themotoringdiary.com/event/rac-rally-of-the-tests/
CATEGORIES:2022,Classic Rallying,Endurance Rally Association,HERO,Motorsport
ATTACH;FMTTYPE=image/png:http://themotoringdiary.com/wp-content/uploads/2022/01/HERO-ROTT.png
ORGANIZER;CN="HERO Events":MAILTO:enquiries@heroevents.eu
END:VEVENT
END:VCALENDAR