BEGIN:VCALENDAR
VERSION:2.0
PRODID:-//The Motoring Diary - ECPv6.15.20//NONSGML v1.0//EN
CALSCALE:GREGORIAN
METHOD:PUBLISH
X-WR-CALNAME:The Motoring Diary
X-ORIGINAL-URL:http://themotoringdiary.com
X-WR-CALDESC:Events for The Motoring Diary
REFRESH-INTERVAL;VALUE=DURATION:PT1H
X-Robots-Tag:noindex
X-PUBLISHED-TTL:PT1H
BEGIN:VTIMEZONE
TZID:Europe/London
BEGIN:DAYLIGHT
TZOFFSETFROM:+0000
TZOFFSETTO:+0100
TZNAME:BST
DTSTART:20220327T010000
END:DAYLIGHT
BEGIN:STANDARD
TZOFFSETFROM:+0100
TZOFFSETTO:+0000
TZNAME:GMT
DTSTART:20221030T010000
END:STANDARD
BEGIN:DAYLIGHT
TZOFFSETFROM:+0000
TZOFFSETTO:+0100
TZNAME:BST
DTSTART:20230326T010000
END:DAYLIGHT
BEGIN:STANDARD
TZOFFSETFROM:+0100
TZOFFSETTO:+0000
TZNAME:GMT
DTSTART:20231029T010000
END:STANDARD
BEGIN:DAYLIGHT
TZOFFSETFROM:+0000
TZOFFSETTO:+0100
TZNAME:BST
DTSTART:20240331T010000
END:DAYLIGHT
BEGIN:STANDARD
TZOFFSETFROM:+0100
TZOFFSETTO:+0000
TZNAME:GMT
DTSTART:20241027T010000
END:STANDARD
END:VTIMEZONE
BEGIN:VEVENT
DTSTART;TZID=Europe/London:20230513T090000
DTEND;TZID=Europe/London:20230513T170000
DTSTAMP:20260422T150736
CREATED:20230120T131424Z
LAST-MODIFIED:20230120T131424Z
UID:39661-1683968400-1683997200@themotoringdiary.com
SUMMARY:Prescott Italia supported by Auto Italia Magazine
DESCRIPTION:Prescott Italia returns to the beautiful Prescott Speed Hill Climb to celebrate the style of iconic Italian Automotive design. \nThis spell-binding event features Italian cars ranging from top-of-the-range Ferraris\, Lamborghinis and Maserati’s\, to classic Fiat 500s\, Lancia’s and Alfa’s\, plus pretty much everything in between\, taking to the Hill and also on static display. Paddock entry is free to all attendees and our Clubhouse is open to all\, offering Italian themed food and drinks for all to enjoy. \nSet within a beautiful country estate of over 65 acres\, Prescott Speed Hill Climb offers outstanding panoramic Cotswold countryside views combined with unrivalled spectator viewing of the thrill and adrenalin of one of the original forms of motorsport in the world.
URL:http://themotoringdiary.com/event/prescott-italia-supported-by-auto-italia-magazine/
LOCATION:Prescott Speed Hill Climb\, Gotherington\, Cheltenham\, Gloucestershire\, GL52 9RD\, United Kingdom
CATEGORIES:2023,Bugatti Owners Club,Club Motorsport,Motorsport,Prescott Speed Hill Climb
ATTACH;FMTTYPE=image/jpeg:http://themotoringdiary.com/wp-content/uploads/2023/01/22-05-2022_Chris-Ponsford-34-of-43.jpg
ORGANIZER;CN="Bugatti Owners Club":MAILTO:gemma@bugatti.co.uk
GEO:51.9653252;-2.024325
X-APPLE-STRUCTURED-LOCATION;VALUE=URI;X-ADDRESS=Prescott Speed Hill Climb Gotherington Cheltenham Gloucestershire GL52 9RD United Kingdom;X-APPLE-RADIUS=500;X-TITLE=Gotherington:geo:-2.024325,51.9653252
END:VEVENT
END:VCALENDAR