BEGIN:VCALENDAR
VERSION:2.0
PRODID:-//The Motoring Diary - ECPv6.15.20//NONSGML v1.0//EN
CALSCALE:GREGORIAN
METHOD:PUBLISH
X-WR-CALNAME:The Motoring Diary
X-ORIGINAL-URL:http://themotoringdiary.com
X-WR-CALDESC:Events for The Motoring Diary
REFRESH-INTERVAL;VALUE=DURATION:PT1H
X-Robots-Tag:noindex
X-PUBLISHED-TTL:PT1H
BEGIN:VTIMEZONE
TZID:Europe/London
BEGIN:DAYLIGHT
TZOFFSETFROM:+0000
TZOFFSETTO:+0100
TZNAME:BST
DTSTART:20210328T010000
END:DAYLIGHT
BEGIN:STANDARD
TZOFFSETFROM:+0100
TZOFFSETTO:+0000
TZNAME:GMT
DTSTART:20211031T010000
END:STANDARD
BEGIN:DAYLIGHT
TZOFFSETFROM:+0000
TZOFFSETTO:+0100
TZNAME:BST
DTSTART:20220327T010000
END:DAYLIGHT
BEGIN:STANDARD
TZOFFSETFROM:+0100
TZOFFSETTO:+0000
TZNAME:GMT
DTSTART:20221030T010000
END:STANDARD
BEGIN:DAYLIGHT
TZOFFSETFROM:+0000
TZOFFSETTO:+0100
TZNAME:BST
DTSTART:20230326T010000
END:DAYLIGHT
BEGIN:STANDARD
TZOFFSETFROM:+0100
TZOFFSETTO:+0000
TZNAME:GMT
DTSTART:20231029T010000
END:STANDARD
END:VTIMEZONE
BEGIN:VEVENT
DTSTART;TZID=Europe/London:20220717T100000
DTEND;TZID=Europe/London:20220717T160000
DTSTAMP:20260425T234352
CREATED:20211223T172852Z
LAST-MODIFIED:20211224T100227Z
UID:36839-1658052000-1658073600@themotoringdiary.com
SUMMARY:Old Ford Rally
DESCRIPTION:Come and see a great variety of pre-1995 vehicles with Ford engines including Anglias\, Capris\, Cortinas\, Escorts\, Fiestas\, Granadas\, Model Ts\, Zephyrs and Zodiacs.\nDon’t miss the live displays and commentary in our Show Arena and be sure to check out the post-1995 Ford vehicle display nearby. Looking for the vital parts to complete your restoration project? Visit the trade stands with spares and accessories on offer.\n2 events & Museum entry in 1 ticket \nTickets for this event will also give you admission to the Rootes Heritage Day\, taking place alongside the Old Ford Rally on Sunday 17 July. We’re celebrating all kinds of Classic Rootes Group vehicles – whether that’s the pre-70s cars such as Hillmans\, Humbers\, Singers and Sunbeams or the later Chryslers\, Simcas and Talbots. Don’t forget the commercial vehicles such as Commers\, Karriers and Kew Dodges too. \nYou have the added bonus of seeing over 350 more cars inside the Museum including a 1955 Ford Popular\, a 1968 Ford Anglia and Lady Penelope’s FAB1 Ford from the 2004 Thunderbirds film. Also inside will be a large display of hand-built Meccano models from The Midlands Meccano Guild and a trade area with diecast models\, vehicle brochures and photos. \nDon’t take our word for it\, recent visitors said: \n– “Very well organized\, friendly and helpful staff.”\n– “My brother-in-law & I have never seen a more comprehensive display of Ford cars anywhere else at any motor show.”\n– “Great location\, Perfect for further car shows/events due to excellent grounds and easy access.”
URL:http://themotoringdiary.com/event/old-ford-rally/
LOCATION:British Motor Museum\, Banbury Road\, Gaydon\, Warwickshire\, CV35 0BJ\, United Kingdom
CATEGORIES:2022,British Motor Museum,Classic Car Show,Museums,Shows
ATTACH;FMTTYPE=image/jpeg:http://themotoringdiary.com/wp-content/uploads/2021/11/British-Motor-Museum.jpg
ORGANIZER;CN="British Motor Museum":MAILTO:enquiries@britishmotormuseum.co.uk
GEO:52.1966401;-1.4808344
X-APPLE-STRUCTURED-LOCATION;VALUE=URI;X-ADDRESS=British Motor Museum Banbury Road Gaydon Warwickshire CV35 0BJ United Kingdom;X-APPLE-RADIUS=500;X-TITLE=Banbury Road:geo:-1.4808344,52.1966401
END:VEVENT
END:VCALENDAR