BEGIN:VCALENDAR
VERSION:2.0
PRODID:-//The Motoring Diary - ECPv6.15.20//NONSGML v1.0//EN
CALSCALE:GREGORIAN
METHOD:PUBLISH
X-WR-CALNAME:The Motoring Diary
X-ORIGINAL-URL:http://themotoringdiary.com
X-WR-CALDESC:Events for The Motoring Diary
REFRESH-INTERVAL;VALUE=DURATION:PT1H
X-Robots-Tag:noindex
X-PUBLISHED-TTL:PT1H
BEGIN:VTIMEZONE
TZID:Europe/London
BEGIN:DAYLIGHT
TZOFFSETFROM:+0000
TZOFFSETTO:+0100
TZNAME:BST
DTSTART:20220327T010000
END:DAYLIGHT
BEGIN:STANDARD
TZOFFSETFROM:+0100
TZOFFSETTO:+0000
TZNAME:GMT
DTSTART:20221030T010000
END:STANDARD
BEGIN:DAYLIGHT
TZOFFSETFROM:+0000
TZOFFSETTO:+0100
TZNAME:BST
DTSTART:20230326T010000
END:DAYLIGHT
BEGIN:STANDARD
TZOFFSETFROM:+0100
TZOFFSETTO:+0000
TZNAME:GMT
DTSTART:20231029T010000
END:STANDARD
BEGIN:DAYLIGHT
TZOFFSETFROM:+0000
TZOFFSETTO:+0100
TZNAME:BST
DTSTART:20240331T010000
END:DAYLIGHT
BEGIN:STANDARD
TZOFFSETFROM:+0100
TZOFFSETTO:+0000
TZNAME:GMT
DTSTART:20241027T010000
END:STANDARD
END:VTIMEZONE
BEGIN:VEVENT
DTSTART;VALUE=DATE:20230111
DTEND;VALUE=DATE:20230119
DTSTAMP:20260421T163730
CREATED:20230301T162328Z
LAST-MODIFIED:20230301T162453Z
UID:40266-1673395200-1674086399@themotoringdiary.com
SUMMARY:New Delhi Auto Expo
DESCRIPTION:Auto Expo is one of the world’s premier auto shows. A signature event\, that witnesses the best minds coming together on a single platform to showcases all that is best in the automotive world\, in terms of products\, technologies\, concepts and trends.
URL:http://themotoringdiary.com/event/new-delhi-auto-expo/
CATEGORIES:2023,Automotive,Motor Shows
ATTACH;FMTTYPE=image/png:http://themotoringdiary.com/wp-content/uploads/2023/03/New-Delhi-Auto-Expo-dA3Lea.tmp_.png
END:VEVENT
END:VCALENDAR