BEGIN:VCALENDAR
VERSION:2.0
PRODID:-//The Motoring Diary - ECPv6.15.20//NONSGML v1.0//EN
CALSCALE:GREGORIAN
METHOD:PUBLISH
X-WR-CALNAME:The Motoring Diary
X-ORIGINAL-URL:http://themotoringdiary.com
X-WR-CALDESC:Events for The Motoring Diary
REFRESH-INTERVAL;VALUE=DURATION:PT1H
X-Robots-Tag:noindex
X-PUBLISHED-TTL:PT1H
BEGIN:VTIMEZONE
TZID:Europe/London
BEGIN:DAYLIGHT
TZOFFSETFROM:+0000
TZOFFSETTO:+0100
TZNAME:BST
DTSTART:20230326T010000
END:DAYLIGHT
BEGIN:STANDARD
TZOFFSETFROM:+0100
TZOFFSETTO:+0000
TZNAME:GMT
DTSTART:20231029T010000
END:STANDARD
BEGIN:DAYLIGHT
TZOFFSETFROM:+0000
TZOFFSETTO:+0100
TZNAME:BST
DTSTART:20240331T010000
END:DAYLIGHT
BEGIN:STANDARD
TZOFFSETFROM:+0100
TZOFFSETTO:+0000
TZNAME:GMT
DTSTART:20241027T010000
END:STANDARD
BEGIN:DAYLIGHT
TZOFFSETFROM:+0000
TZOFFSETTO:+0100
TZNAME:BST
DTSTART:20250330T010000
END:DAYLIGHT
BEGIN:STANDARD
TZOFFSETFROM:+0100
TZOFFSETTO:+0000
TZNAME:GMT
DTSTART:20251026T010000
END:STANDARD
END:VTIMEZONE
BEGIN:VEVENT
DTSTART;VALUE=DATE:20240609
DTEND;VALUE=DATE:20240610
DTSTAMP:20260421T125840
CREATED:20231204T145635Z
LAST-MODIFIED:20231204T145635Z
UID:40618-1717891200-1717977599@themotoringdiary.com
SUMMARY:National Mini Day
DESCRIPTION:Join the Mini Cooper Register for National Mini Day on Sunday 9th June\, as one of the most eagerly anticipated events of the Mini calendar returns to Beaulieu.\nBringing together Minis of every variety\, from early Austins and Morrises\, Wolseley Hornets and Riley Elfs\, through the iconic 1960s Coopers and popular 1970s Clubmans\, to the last-of-the-line classic Mini Coopers and even modern-day MINIs\, there will be something for every Mini fan at the event. \nJoin the Pre-War Austin Seven Club as it celebrates 100 years of one of the world’s best-loved people’s cars with an event full of activities\, including an Austin autojumble\, driving skills tests and a concours competition\, with plenty of trophies to be won. \nAll Austin 7s are welcome (no need to be a club member). Other Austins and pre-1975 cars are also welcome – but all must be registered in advance with the organiser. \nThe first Austin Seven rally at Beaulieu took place in 1963\, making this one of the longest-running Austin Seven events in the world.
URL:http://themotoringdiary.com/event/national-mini-day/
LOCATION:National Motor Museum\, Beaulieu\, Brockenhurst\, Beaulieu\, Hampshire\, SO42 7ZN\, United Kingdom
CATEGORIES:2024,Classic Car Show,Museums,National Motor Museum,Shows
ORGANIZER;CN="National Motor Museum%2C Beaulieu":MAILTO:info@beaulieu.co.uk
GEO:50.8230206;-1.4536012
X-APPLE-STRUCTURED-LOCATION;VALUE=URI;X-ADDRESS=National Motor Museum Beaulieu Brockenhurst Beaulieu Hampshire SO42 7ZN United Kingdom;X-APPLE-RADIUS=500;X-TITLE=Brockenhurst:geo:-1.4536012,50.8230206
END:VEVENT
END:VCALENDAR