BEGIN:VCALENDAR
VERSION:2.0
PRODID:-//The Motoring Diary - ECPv6.15.20//NONSGML v1.0//EN
CALSCALE:GREGORIAN
METHOD:PUBLISH
X-WR-CALNAME:The Motoring Diary
X-ORIGINAL-URL:http://themotoringdiary.com
X-WR-CALDESC:Events for The Motoring Diary
REFRESH-INTERVAL;VALUE=DURATION:PT1H
X-Robots-Tag:noindex
X-PUBLISHED-TTL:PT1H
BEGIN:VTIMEZONE
TZID:Europe/London
BEGIN:DAYLIGHT
TZOFFSETFROM:+0000
TZOFFSETTO:+0100
TZNAME:BST
DTSTART:20210328T010000
END:DAYLIGHT
BEGIN:STANDARD
TZOFFSETFROM:+0100
TZOFFSETTO:+0000
TZNAME:GMT
DTSTART:20211031T010000
END:STANDARD
BEGIN:DAYLIGHT
TZOFFSETFROM:+0000
TZOFFSETTO:+0100
TZNAME:BST
DTSTART:20220327T010000
END:DAYLIGHT
BEGIN:STANDARD
TZOFFSETFROM:+0100
TZOFFSETTO:+0000
TZNAME:GMT
DTSTART:20221030T010000
END:STANDARD
BEGIN:DAYLIGHT
TZOFFSETFROM:+0000
TZOFFSETTO:+0100
TZNAME:BST
DTSTART:20230326T010000
END:DAYLIGHT
BEGIN:STANDARD
TZOFFSETFROM:+0100
TZOFFSETTO:+0000
TZNAME:GMT
DTSTART:20231029T010000
END:STANDARD
END:VTIMEZONE
BEGIN:VEVENT
DTSTART;TZID=Europe/London:20220605T100000
DTEND;TZID=Europe/London:20220605T160000
DTSTAMP:20260420T125221
CREATED:20211223T172651Z
LAST-MODIFIED:20211224T100323Z
UID:36833-1654423200-1654444800@themotoringdiary.com
SUMMARY:National Metro and Mini Show
DESCRIPTION:This is the main event of the year for owners of Metros\, classic Minis and modern MINIs to come together. We welcome hundreds of these popular cars every year to make a fantastic display outside the Museum. We even have a chance for you to get competitive with competitions and awards such as a concours and Show’n’Shine to enter.\nOur show is well-received by families too! If you\, your parents or grandparents owned a Mini or Metro\, the displays are sure to bring back a sense of nostalgia. Head to the Junction 12 Café for hot meals\, sweet treats and refreshments or enjoy ice creams and burgers outside. \nTickets for the show include entry to the Museum and Collections Centre\, giving you the chance to see over 350 more cars from our fabulous collection. Inside\, you will find some of the historically important milestone vehicles such as the last Rover 100 produced\, signed by almost 1200 people involved in Metro production. Also there will be the very first Mini ‘621 AOK’\, the very last classic Mini produced at Longbridge ‘X411 JOP’ and the Monte Carlo Rally winning Minis of 1964\, 1965 and 1967 for you to see. \nDon’t take our word for it\, recent visitors said: \n– “Great show overall in difficult circumstances. Well done to all involved!”\n– “Great day\, well worth the entrance fee.”\n– “Show and museum was excellent as always and as I travel so far it is always nice to be able to camp and have a relaxing weekend.”
URL:http://themotoringdiary.com/event/national-metro-and-mini-show/
LOCATION:British Motor Museum\, Banbury Road\, Gaydon\, Warwickshire\, CV35 0BJ\, United Kingdom
CATEGORIES:2022,British Motor Museum,Classic Car Show,Museums,Shows
ATTACH;FMTTYPE=image/jpeg:http://themotoringdiary.com/wp-content/uploads/2021/11/British-Motor-Museum.jpg
ORGANIZER;CN="British Motor Museum":MAILTO:enquiries@britishmotormuseum.co.uk
GEO:52.1966401;-1.4808344
X-APPLE-STRUCTURED-LOCATION;VALUE=URI;X-ADDRESS=British Motor Museum Banbury Road Gaydon Warwickshire CV35 0BJ United Kingdom;X-APPLE-RADIUS=500;X-TITLE=Banbury Road:geo:-1.4808344,52.1966401
END:VEVENT
END:VCALENDAR