BEGIN:VCALENDAR
VERSION:2.0
PRODID:-//The Motoring Diary - ECPv6.15.20//NONSGML v1.0//EN
CALSCALE:GREGORIAN
METHOD:PUBLISH
X-WR-CALNAME:The Motoring Diary
X-ORIGINAL-URL:http://themotoringdiary.com
X-WR-CALDESC:Events for The Motoring Diary
REFRESH-INTERVAL;VALUE=DURATION:PT1H
X-Robots-Tag:noindex
X-PUBLISHED-TTL:PT1H
BEGIN:VTIMEZONE
TZID:Europe/London
BEGIN:DAYLIGHT
TZOFFSETFROM:+0000
TZOFFSETTO:+0100
TZNAME:BST
DTSTART:20220327T010000
END:DAYLIGHT
BEGIN:STANDARD
TZOFFSETFROM:+0100
TZOFFSETTO:+0000
TZNAME:GMT
DTSTART:20221030T010000
END:STANDARD
BEGIN:DAYLIGHT
TZOFFSETFROM:+0000
TZOFFSETTO:+0100
TZNAME:BST
DTSTART:20230326T010000
END:DAYLIGHT
BEGIN:STANDARD
TZOFFSETFROM:+0100
TZOFFSETTO:+0000
TZNAME:GMT
DTSTART:20231029T010000
END:STANDARD
BEGIN:DAYLIGHT
TZOFFSETFROM:+0000
TZOFFSETTO:+0100
TZNAME:BST
DTSTART:20240331T010000
END:DAYLIGHT
BEGIN:STANDARD
TZOFFSETFROM:+0100
TZOFFSETTO:+0000
TZNAME:GMT
DTSTART:20241027T010000
END:STANDARD
END:VTIMEZONE
BEGIN:VEVENT
DTSTART;VALUE=DATE:20230702
DTEND;VALUE=DATE:20230703
DTSTAMP:20260422T102913
CREATED:20230105T172849Z
LAST-MODIFIED:20230223T172319Z
UID:39462-1688256000-1688342399@themotoringdiary.com
SUMMARY:National Ausitn Seven Rally
DESCRIPTION:We are delighted to announce the return of the National Austin Seven Rally on Sunday 2 July\, with Austin Sevens from across the United Kingdom and Europe gathering in the Beaulieu parkland.\nJoin the Pre-War Austin Seven Club as it celebrates 100 years of one of the world’s best-loved people’s cars with an event full of activities\, including an Austin autojumble\, driving skills tests and a concours competition\, with plenty of trophies to be won. \nAll Austin 7s are welcome (no need to be a club member). Other Austins and pre-1975 cars are also welcome – but all must be registered in advance with the organiser. \nThe first Austin Seven rally at Beaulieu took place in 1963\, making this one of the longest-running Austin Seven events in the world.
URL:http://themotoringdiary.com/event/national-ausitn-seven-rally-2/
CATEGORIES:2023,Classic Car Show,Museums,National Motor Museum,Shows
ATTACH;FMTTYPE=image/png:http://themotoringdiary.com/wp-content/uploads/2023/01/Beaulieu-qzf6mo.tmp_.png
END:VEVENT
END:VCALENDAR