BEGIN:VCALENDAR
VERSION:2.0
PRODID:-//The Motoring Diary - ECPv6.15.20//NONSGML v1.0//EN
CALSCALE:GREGORIAN
METHOD:PUBLISH
X-WR-CALNAME:The Motoring Diary
X-ORIGINAL-URL:http://themotoringdiary.com
X-WR-CALDESC:Events for The Motoring Diary
REFRESH-INTERVAL;VALUE=DURATION:PT1H
X-Robots-Tag:noindex
X-PUBLISHED-TTL:PT1H
BEGIN:VTIMEZONE
TZID:Europe/London
BEGIN:DAYLIGHT
TZOFFSETFROM:+0000
TZOFFSETTO:+0100
TZNAME:BST
DTSTART:20210328T010000
END:DAYLIGHT
BEGIN:STANDARD
TZOFFSETFROM:+0100
TZOFFSETTO:+0000
TZNAME:GMT
DTSTART:20211031T010000
END:STANDARD
BEGIN:DAYLIGHT
TZOFFSETFROM:+0000
TZOFFSETTO:+0100
TZNAME:BST
DTSTART:20220327T010000
END:DAYLIGHT
BEGIN:STANDARD
TZOFFSETFROM:+0100
TZOFFSETTO:+0000
TZNAME:GMT
DTSTART:20221030T010000
END:STANDARD
BEGIN:DAYLIGHT
TZOFFSETFROM:+0000
TZOFFSETTO:+0100
TZNAME:BST
DTSTART:20230326T010000
END:DAYLIGHT
BEGIN:STANDARD
TZOFFSETFROM:+0100
TZOFFSETTO:+0000
TZNAME:GMT
DTSTART:20231029T010000
END:STANDARD
END:VTIMEZONE
BEGIN:VEVENT
DTSTART;VALUE=DATE:20220501
DTEND;VALUE=DATE:20220502
DTSTAMP:20260421T101559
CREATED:20211224T142045Z
LAST-MODIFIED:20211224T142045Z
UID:37352-1651363200-1651449599@themotoringdiary.com
SUMMARY:MotoGP -  Spain Jerez
DESCRIPTION:
URL:http://themotoringdiary.com/event/motogp-spain-jerez/
LOCATION:Circuito de Jerez\, Carretera de Arcos-Jerez de la Frontera\, 11405 Jerez de la Frontera\, Cadiz\, Spain
CATEGORIES:2022,Dorna,Motogp,Motorbikes,Motorsport
ORGANIZER;CN="Dorna":MAILTO:info.events@dorna.com
GEO:36.6894889;-6.1105726
X-APPLE-STRUCTURED-LOCATION;VALUE=URI;X-ADDRESS=Circuito de Jerez Carretera de Arcos-Jerez de la Frontera 11405 Jerez de la Frontera Cadiz Spain;X-APPLE-RADIUS=500;X-TITLE=Carretera de Arcos-Jerez de la Frontera:geo:-6.1105726,36.6894889
END:VEVENT
END:VCALENDAR