BEGIN:VCALENDAR
VERSION:2.0
PRODID:-//The Motoring Diary - ECPv6.15.20//NONSGML v1.0//EN
CALSCALE:GREGORIAN
METHOD:PUBLISH
X-WR-CALNAME:The Motoring Diary
X-ORIGINAL-URL:http://themotoringdiary.com
X-WR-CALDESC:Events for The Motoring Diary
REFRESH-INTERVAL;VALUE=DURATION:PT1H
X-Robots-Tag:noindex
X-PUBLISHED-TTL:PT1H
BEGIN:VTIMEZONE
TZID:Europe/London
BEGIN:DAYLIGHT
TZOFFSETFROM:+0000
TZOFFSETTO:+0100
TZNAME:BST
DTSTART:20210328T010000
END:DAYLIGHT
BEGIN:STANDARD
TZOFFSETFROM:+0100
TZOFFSETTO:+0000
TZNAME:GMT
DTSTART:20211031T010000
END:STANDARD
BEGIN:DAYLIGHT
TZOFFSETFROM:+0000
TZOFFSETTO:+0100
TZNAME:BST
DTSTART:20220327T010000
END:DAYLIGHT
BEGIN:STANDARD
TZOFFSETFROM:+0100
TZOFFSETTO:+0000
TZNAME:GMT
DTSTART:20221030T010000
END:STANDARD
BEGIN:DAYLIGHT
TZOFFSETFROM:+0000
TZOFFSETTO:+0100
TZNAME:BST
DTSTART:20230326T010000
END:DAYLIGHT
BEGIN:STANDARD
TZOFFSETFROM:+0100
TZOFFSETTO:+0000
TZNAME:GMT
DTSTART:20231029T010000
END:STANDARD
END:VTIMEZONE
BEGIN:VEVENT
DTSTART;VALUE=DATE:20220306
DTEND;VALUE=DATE:20220307
DTSTAMP:20260425T220214
CREATED:20211224T142111Z
LAST-MODIFIED:20211224T142111Z
UID:37365-1646524800-1646611199@themotoringdiary.com
SUMMARY:MotoGP - Qatar
DESCRIPTION:
URL:http://themotoringdiary.com/event/motogp-qatar/
LOCATION:Losail International Circuit\, Al Wusail\, North Relief Road\, Lusail
CATEGORIES:2022,Dorna,Motogp,Motorbikes,Motorsport
ORGANIZER;CN="Dorna":MAILTO:info.events@dorna.com
GEO:25.4312675;51.5078005
X-APPLE-STRUCTURED-LOCATION;VALUE=URI;X-ADDRESS=Losail International Circuit Al Wusail North Relief Road Lusail;X-APPLE-RADIUS=500;X-TITLE=Al Wusail:geo:51.5078005,25.4312675
END:VEVENT
END:VCALENDAR