BEGIN:VCALENDAR
VERSION:2.0
PRODID:-//The Motoring Diary - ECPv6.15.20//NONSGML v1.0//EN
CALSCALE:GREGORIAN
METHOD:PUBLISH
X-WR-CALNAME:The Motoring Diary
X-ORIGINAL-URL:http://themotoringdiary.com
X-WR-CALDESC:Events for The Motoring Diary
REFRESH-INTERVAL;VALUE=DURATION:PT1H
X-Robots-Tag:noindex
X-PUBLISHED-TTL:PT1H
BEGIN:VTIMEZONE
TZID:Europe/London
BEGIN:DAYLIGHT
TZOFFSETFROM:+0000
TZOFFSETTO:+0100
TZNAME:BST
DTSTART:20210328T010000
END:DAYLIGHT
BEGIN:STANDARD
TZOFFSETFROM:+0100
TZOFFSETTO:+0000
TZNAME:GMT
DTSTART:20211031T010000
END:STANDARD
BEGIN:DAYLIGHT
TZOFFSETFROM:+0000
TZOFFSETTO:+0100
TZNAME:BST
DTSTART:20220327T010000
END:DAYLIGHT
BEGIN:STANDARD
TZOFFSETFROM:+0100
TZOFFSETTO:+0000
TZNAME:GMT
DTSTART:20221030T010000
END:STANDARD
BEGIN:DAYLIGHT
TZOFFSETFROM:+0000
TZOFFSETTO:+0100
TZNAME:BST
DTSTART:20230326T010000
END:DAYLIGHT
BEGIN:STANDARD
TZOFFSETFROM:+0100
TZOFFSETTO:+0000
TZNAME:GMT
DTSTART:20231029T010000
END:STANDARD
END:VTIMEZONE
BEGIN:VEVENT
DTSTART;VALUE=DATE:20220904
DTEND;VALUE=DATE:20220905
DTSTAMP:20260425T163814
CREATED:20211224T142055Z
LAST-MODIFIED:20211224T142055Z
UID:37360-1662249600-1662335999@themotoringdiary.com
SUMMARY:MotoGP - Italy Misano
DESCRIPTION:
URL:http://themotoringdiary.com/event/motogp-italy-misano/
LOCATION:Misano World Circuit\, Santa Monica SpA – Via Daijiro Kato\, 10 – 47843 Misano Adriatico\, Italy
CATEGORIES:2022,Dorna,Motogp,Motorbikes,Motorsport
ATTACH;FMTTYPE=image/png:http://themotoringdiary.com/wp-content/uploads/2021/11/MotoGP.png
ORGANIZER;CN="Dorna":MAILTO:info.events@dorna.com
GEO:43.9619166;12.6844401
X-APPLE-STRUCTURED-LOCATION;VALUE=URI;X-ADDRESS=Misano World Circuit Santa Monica SpA – Via Daijiro Kato 10 – 47843 Misano Adriatico Italy;X-APPLE-RADIUS=500;X-TITLE=Santa Monica SpA – Via Daijiro Kato:geo:12.6844401,43.9619166
END:VEVENT
END:VCALENDAR