BEGIN:VCALENDAR
VERSION:2.0
PRODID:-//The Motoring Diary - ECPv6.15.20//NONSGML v1.0//EN
CALSCALE:GREGORIAN
METHOD:PUBLISH
X-WR-CALNAME:The Motoring Diary
X-ORIGINAL-URL:http://themotoringdiary.com
X-WR-CALDESC:Events for The Motoring Diary
REFRESH-INTERVAL;VALUE=DURATION:PT1H
X-Robots-Tag:noindex
X-PUBLISHED-TTL:PT1H
BEGIN:VTIMEZONE
TZID:Europe/London
BEGIN:DAYLIGHT
TZOFFSETFROM:+0000
TZOFFSETTO:+0100
TZNAME:BST
DTSTART:20220327T010000
END:DAYLIGHT
BEGIN:STANDARD
TZOFFSETFROM:+0100
TZOFFSETTO:+0000
TZNAME:GMT
DTSTART:20221030T010000
END:STANDARD
BEGIN:DAYLIGHT
TZOFFSETFROM:+0000
TZOFFSETTO:+0100
TZNAME:BST
DTSTART:20230326T010000
END:DAYLIGHT
BEGIN:STANDARD
TZOFFSETFROM:+0100
TZOFFSETTO:+0000
TZNAME:GMT
DTSTART:20231029T010000
END:STANDARD
BEGIN:DAYLIGHT
TZOFFSETFROM:+0000
TZOFFSETTO:+0100
TZNAME:BST
DTSTART:20240331T010000
END:DAYLIGHT
BEGIN:STANDARD
TZOFFSETFROM:+0100
TZOFFSETTO:+0000
TZNAME:GMT
DTSTART:20241027T010000
END:STANDARD
END:VTIMEZONE
BEGIN:VEVENT
DTSTART;TZID=Europe/London:20231125T093000
DTEND;TZID=Europe/London:20231125T170000
DTSTAMP:20260425T202432
CREATED:20230301T160451Z
LAST-MODIFIED:20230301T160451Z
UID:40250-1700904600-1700931600@themotoringdiary.com
SUMMARY:Mercedes Benz World November Sale
DESCRIPTION:
URL:http://themotoringdiary.com/event/mercedes-benz-world-november-sale-2/
LOCATION:Mercedes-Benz World\, Brooklands Drive\, Weybridge\, Surrey\, KT13 0SL\, United Kingdom
CATEGORIES:2023,Auctions,Historics
ATTACH;FMTTYPE=image/png:http://themotoringdiary.com/wp-content/uploads/2023/03/Historics-r5JByp.tmp_.png
ORGANIZER;CN="Historics Auctions":MAILTO:auctions@historics.co.uk
GEO:51.3520214;-0.4700716
X-APPLE-STRUCTURED-LOCATION;VALUE=URI;X-ADDRESS=Mercedes-Benz World Brooklands Drive Weybridge Surrey KT13 0SL United Kingdom;X-APPLE-RADIUS=500;X-TITLE=Brooklands Drive:geo:-0.4700716,51.3520214
END:VEVENT
END:VCALENDAR