BEGIN:VCALENDAR
VERSION:2.0
PRODID:-//The Motoring Diary - ECPv6.15.20//NONSGML v1.0//EN
CALSCALE:GREGORIAN
METHOD:PUBLISH
X-WR-CALNAME:The Motoring Diary
X-ORIGINAL-URL:http://themotoringdiary.com
X-WR-CALDESC:Events for The Motoring Diary
REFRESH-INTERVAL;VALUE=DURATION:PT1H
X-Robots-Tag:noindex
X-PUBLISHED-TTL:PT1H
BEGIN:VTIMEZONE
TZID:Europe/London
BEGIN:DAYLIGHT
TZOFFSETFROM:+0000
TZOFFSETTO:+0100
TZNAME:BST
DTSTART:20230326T010000
END:DAYLIGHT
BEGIN:STANDARD
TZOFFSETFROM:+0100
TZOFFSETTO:+0000
TZNAME:GMT
DTSTART:20231029T010000
END:STANDARD
BEGIN:DAYLIGHT
TZOFFSETFROM:+0000
TZOFFSETTO:+0100
TZNAME:BST
DTSTART:20240331T010000
END:DAYLIGHT
BEGIN:STANDARD
TZOFFSETFROM:+0100
TZOFFSETTO:+0000
TZNAME:GMT
DTSTART:20241027T010000
END:STANDARD
BEGIN:DAYLIGHT
TZOFFSETFROM:+0000
TZOFFSETTO:+0100
TZNAME:BST
DTSTART:20250330T010000
END:DAYLIGHT
BEGIN:STANDARD
TZOFFSETFROM:+0100
TZOFFSETTO:+0000
TZNAME:GMT
DTSTART:20251026T010000
END:STANDARD
END:VTIMEZONE
BEGIN:VEVENT
DTSTART;VALUE=DATE:20240604
DTEND;VALUE=DATE:20240607
DTSTAMP:20260423T134929
CREATED:20231204T170018Z
LAST-MODIFIED:20231204T170018Z
UID:40681-1717459200-1717718399@themotoringdiary.com
SUMMARY:London Concours
DESCRIPTION:A display of some of the world’s finest cars in the intimate setting of the gardens of the Honourable Artillery Company.\nA retail opportunity\, with displays from artisans and specialist suppliers.\nA relaxed environment with great food\, good company\, and a variety of entertainment to enjoy. \nThe Concours is aimed at collectors\, enthusiasts and people with an appreciation of quality and craftsmanship. \nComparable events in the world include: The Quail – A Motorsports Gathering (California)\, Concorso d’Eleganza Villa d’Este (Italy) and Amelia Island Concours d’Elegance (Florida).
URL:http://themotoringdiary.com/event/london-concours-2/
LOCATION:The Honourable Artillery Company\, Armoury House\, City Road\, London\, EC1Y 2BQ\, United Kingdom
CATEGORIES:2024,Automotive,Concours,Shows
ATTACH;FMTTYPE=image/png:http://themotoringdiary.com/wp-content/uploads/2023/12/London-Concours-2019-g3ygQq.tmp_.png
ORGANIZER;CN="Thorough Events":MAILTO:gilli@thoroughevents.co.uk
GEO:51.522775;-0.0874923
X-APPLE-STRUCTURED-LOCATION;VALUE=URI;X-ADDRESS=The Honourable Artillery Company Armoury House City Road London EC1Y 2BQ United Kingdom;X-APPLE-RADIUS=500;X-TITLE=Armoury House\, City Road:geo:-0.0874923,51.522775
END:VEVENT
END:VCALENDAR