BEGIN:VCALENDAR
VERSION:2.0
PRODID:-//The Motoring Diary - ECPv6.15.20//NONSGML v1.0//EN
CALSCALE:GREGORIAN
METHOD:PUBLISH
X-WR-CALNAME:The Motoring Diary
X-ORIGINAL-URL:http://themotoringdiary.com
X-WR-CALDESC:Events for The Motoring Diary
REFRESH-INTERVAL;VALUE=DURATION:PT1H
X-Robots-Tag:noindex
X-PUBLISHED-TTL:PT1H
BEGIN:VTIMEZONE
TZID:Europe/London
BEGIN:DAYLIGHT
TZOFFSETFROM:+0000
TZOFFSETTO:+0100
TZNAME:BST
DTSTART:20220327T010000
END:DAYLIGHT
BEGIN:STANDARD
TZOFFSETFROM:+0100
TZOFFSETTO:+0000
TZNAME:GMT
DTSTART:20221030T010000
END:STANDARD
BEGIN:DAYLIGHT
TZOFFSETFROM:+0000
TZOFFSETTO:+0100
TZNAME:BST
DTSTART:20230326T010000
END:DAYLIGHT
BEGIN:STANDARD
TZOFFSETFROM:+0100
TZOFFSETTO:+0000
TZNAME:GMT
DTSTART:20231029T010000
END:STANDARD
BEGIN:DAYLIGHT
TZOFFSETFROM:+0000
TZOFFSETTO:+0100
TZNAME:BST
DTSTART:20240331T010000
END:DAYLIGHT
BEGIN:STANDARD
TZOFFSETFROM:+0100
TZOFFSETTO:+0000
TZNAME:GMT
DTSTART:20241027T010000
END:STANDARD
END:VTIMEZONE
BEGIN:VEVENT
DTSTART;TZID=Europe/London:20231022T100000
DTEND;TZID=Europe/London:20231022T170000
DTSTAMP:20260423T190318
CREATED:20230301T170656Z
LAST-MODIFIED:20230301T170656Z
UID:40316-1697968800-1697994000@themotoringdiary.com
SUMMARY:London Bus Museum Transportfest
DESCRIPTION:Join us for London Bus Museum’s Transportfest. This event features extensive bus displays\, including rarely-seen early examples\, as well as wonderful examples of other commercial transport such as taxis\, military & emergency vehicles.\nThere will be heritage bus trips\, a collectors’ market\, live music and children’s attractions. This event is not just for transport enthusiasts\, but fun for all the family as well. \nAll the Brooklands Museum attractions and displays will be open including cars\, motorbikes\, bicycles and aircraft. \nMore details can be found at www.londonbusmuseum.com
URL:http://themotoringdiary.com/event/london-bus-museum-transportfest-2/
LOCATION:Brooklands Museum\, Brooklands Road\, Weybridge\, Surrey\, KT13 0QN\, United Kingdom
CATEGORIES:2023,Brooklands,Classic Car Show,Museums,Shows
ATTACH;FMTTYPE=image/png:http://themotoringdiary.com/wp-content/uploads/2023/03/Brooklands-3Qdy3o.tmp_.png
GEO:51.3518475;-0.459869
X-APPLE-STRUCTURED-LOCATION;VALUE=URI;X-ADDRESS=Brooklands Museum Brooklands Road Weybridge Surrey KT13 0QN United Kingdom;X-APPLE-RADIUS=500;X-TITLE=Brooklands Road:geo:-0.459869,51.3518475
END:VEVENT
END:VCALENDAR