BEGIN:VCALENDAR
VERSION:2.0
PRODID:-//The Motoring Diary - ECPv6.15.20//NONSGML v1.0//EN
CALSCALE:GREGORIAN
METHOD:PUBLISH
X-WR-CALNAME:The Motoring Diary
X-ORIGINAL-URL:http://themotoringdiary.com
X-WR-CALDESC:Events for The Motoring Diary
REFRESH-INTERVAL;VALUE=DURATION:PT1H
X-Robots-Tag:noindex
X-PUBLISHED-TTL:PT1H
BEGIN:VTIMEZONE
TZID:Europe/London
BEGIN:DAYLIGHT
TZOFFSETFROM:+0000
TZOFFSETTO:+0100
TZNAME:BST
DTSTART:20210328T010000
END:DAYLIGHT
BEGIN:STANDARD
TZOFFSETFROM:+0100
TZOFFSETTO:+0000
TZNAME:GMT
DTSTART:20211031T010000
END:STANDARD
BEGIN:DAYLIGHT
TZOFFSETFROM:+0000
TZOFFSETTO:+0100
TZNAME:BST
DTSTART:20220327T010000
END:DAYLIGHT
BEGIN:STANDARD
TZOFFSETFROM:+0100
TZOFFSETTO:+0000
TZNAME:GMT
DTSTART:20221030T010000
END:STANDARD
BEGIN:DAYLIGHT
TZOFFSETFROM:+0000
TZOFFSETTO:+0100
TZNAME:BST
DTSTART:20230326T010000
END:DAYLIGHT
BEGIN:STANDARD
TZOFFSETFROM:+0100
TZOFFSETTO:+0000
TZNAME:GMT
DTSTART:20231029T010000
END:STANDARD
END:VTIMEZONE
BEGIN:VEVENT
DTSTART;TZID=Europe/London:20220410T100000
DTEND;TZID=Europe/London:20220410T170000
DTSTAMP:20260425T124111
CREATED:20211230T132052Z
LAST-MODIFIED:20211230T133322Z
UID:37666-1649584800-1649610000@themotoringdiary.com
SUMMARY:London Bus Museum Spring Gathering
DESCRIPTION:The South East’s biggest\, longest-running and best-loved bus show is back and will be a fabulous day out for families and transport enthusiasts alike. The show is expected to attract around 100 visiting buses and coaches\, old and new\, from London and all over the UK.\nThere will be extensive bus displays\, heritage bus trips and a huge selection of trade stalls. Inside the London Bus Museum\, workshop tours will demonstrate the preservation work carried out by their team of volunteer engineers. \nFor the family\, there are bus excursions and two free circular service routes to ride\, children’s activities and more. \nAll the Brooklands Museum attractions and displays will be open including cars\, motorbikes\, bicycles and aircraft.
URL:http://themotoringdiary.com/event/london-bus-museum-spring-gathering/
LOCATION:Brooklands Museum\, Brooklands Road\, Weybridge\, Surrey\, KT13 0QN\, United Kingdom
CATEGORIES:2022,Brooklands Museum,Classic Car Show,Museums,Shows
ATTACH;FMTTYPE=image/png:http://themotoringdiary.com/wp-content/uploads/2021/12/Brooklands.png
ORGANIZER;CN="Brooklands Museum":MAILTO:talks@brooklandsmembers.co.uk
GEO:51.3518475;-0.459869
X-APPLE-STRUCTURED-LOCATION;VALUE=URI;X-ADDRESS=Brooklands Museum Brooklands Road Weybridge Surrey KT13 0QN United Kingdom;X-APPLE-RADIUS=500;X-TITLE=Brooklands Road:geo:-0.459869,51.3518475
END:VEVENT
END:VCALENDAR