BEGIN:VCALENDAR
VERSION:2.0
PRODID:-//The Motoring Diary - ECPv6.15.20//NONSGML v1.0//EN
CALSCALE:GREGORIAN
METHOD:PUBLISH
X-WR-CALNAME:The Motoring Diary
X-ORIGINAL-URL:http://themotoringdiary.com
X-WR-CALDESC:Events for The Motoring Diary
REFRESH-INTERVAL;VALUE=DURATION:PT1H
X-Robots-Tag:noindex
X-PUBLISHED-TTL:PT1H
BEGIN:VTIMEZONE
TZID:Europe/London
BEGIN:DAYLIGHT
TZOFFSETFROM:+0000
TZOFFSETTO:+0100
TZNAME:BST
DTSTART:20210328T010000
END:DAYLIGHT
BEGIN:STANDARD
TZOFFSETFROM:+0100
TZOFFSETTO:+0000
TZNAME:GMT
DTSTART:20211031T010000
END:STANDARD
BEGIN:DAYLIGHT
TZOFFSETFROM:+0000
TZOFFSETTO:+0100
TZNAME:BST
DTSTART:20220327T010000
END:DAYLIGHT
BEGIN:STANDARD
TZOFFSETFROM:+0100
TZOFFSETTO:+0000
TZNAME:GMT
DTSTART:20221030T010000
END:STANDARD
BEGIN:DAYLIGHT
TZOFFSETFROM:+0000
TZOFFSETTO:+0100
TZNAME:BST
DTSTART:20230326T010000
END:DAYLIGHT
BEGIN:STANDARD
TZOFFSETFROM:+0100
TZOFFSETTO:+0000
TZNAME:GMT
DTSTART:20231029T010000
END:STANDARD
END:VTIMEZONE
BEGIN:VEVENT
DTSTART;VALUE=DATE:20220327
DTEND;VALUE=DATE:20220328
DTSTAMP:20260421T113215
CREATED:20211223T181627Z
LAST-MODIFIED:20211223T181627Z
UID:36898-1648339200-1648425599@themotoringdiary.com
SUMMARY:Le French Fest
DESCRIPTION:Le French Fest is a celebration of automobiles originating from just across the channel. The French manufacturers offer something for everyone from your first car up to complete family wagon and as the event’s at Santa Pod\, it would be remiss of us to ignore power and performance. Peugeot have good pedigree in the rallying world; as well as the various 2CV championships\, Citroen have entries in both rally and circuit racing and of course who can forget that the multi-championship winning Renault F1 Team. Whether you’re looking to put pedal to the metal on track or park and pose in the show paddock\, if French cars take your fancy\, there’s guaranteed to be something for you!
URL:http://themotoringdiary.com/event/le-french-fest/
LOCATION:Santa Pod Raceway\, Airfield Road\, Podington\, Wellingborough\, Northamptonshire\, NN29 7XA\, United Kingdom
CATEGORIES:2022,Drag Racing,Motorsport,Santa Pod Raceway
ATTACH;FMTTYPE=image/jpeg:http://themotoringdiary.com/wp-content/uploads/2021/12/santa-pod-2022.jpg
ORGANIZER;CN="Santa Pod Raceway":MAILTO:aimee@santapod.com
GEO:52.2414223;-0.6159423
X-APPLE-STRUCTURED-LOCATION;VALUE=URI;X-ADDRESS=Santa Pod Raceway Airfield Road Podington Wellingborough Northamptonshire NN29 7XA United Kingdom;X-APPLE-RADIUS=500;X-TITLE=Airfield Road\, Podington:geo:-0.6159423,52.2414223
END:VEVENT
END:VCALENDAR