BEGIN:VCALENDAR
VERSION:2.0
PRODID:-//The Motoring Diary - ECPv6.15.20//NONSGML v1.0//EN
CALSCALE:GREGORIAN
METHOD:PUBLISH
X-WR-CALNAME:The Motoring Diary
X-ORIGINAL-URL:http://themotoringdiary.com
X-WR-CALDESC:Events for The Motoring Diary
REFRESH-INTERVAL;VALUE=DURATION:PT1H
X-Robots-Tag:noindex
X-PUBLISHED-TTL:PT1H
BEGIN:VTIMEZONE
TZID:Europe/London
BEGIN:DAYLIGHT
TZOFFSETFROM:+0000
TZOFFSETTO:+0100
TZNAME:BST
DTSTART:20210328T010000
END:DAYLIGHT
BEGIN:STANDARD
TZOFFSETFROM:+0100
TZOFFSETTO:+0000
TZNAME:GMT
DTSTART:20211031T010000
END:STANDARD
BEGIN:DAYLIGHT
TZOFFSETFROM:+0000
TZOFFSETTO:+0100
TZNAME:BST
DTSTART:20220327T010000
END:DAYLIGHT
BEGIN:STANDARD
TZOFFSETFROM:+0100
TZOFFSETTO:+0000
TZNAME:GMT
DTSTART:20221030T010000
END:STANDARD
BEGIN:DAYLIGHT
TZOFFSETFROM:+0000
TZOFFSETTO:+0100
TZNAME:BST
DTSTART:20230326T010000
END:DAYLIGHT
BEGIN:STANDARD
TZOFFSETFROM:+0100
TZOFFSETTO:+0000
TZNAME:GMT
DTSTART:20231029T010000
END:STANDARD
END:VTIMEZONE
BEGIN:VEVENT
DTSTART;VALUE=DATE:20220515
DTEND;VALUE=DATE:20220516
DTSTAMP:20260422T115959
CREATED:20211223T201026Z
LAST-MODIFIED:20211223T202506Z
UID:36941-1652572800-1652659199@themotoringdiary.com
SUMMARY:Land Rover Rummage
DESCRIPTION:A trading corner of Spring Autojumble\, Land Rover Rummage is dedicated to enthusiasts and owners of the iconic British 4X4.\nTaking place on the Sunday of Spring Autojumble and included in the Spring Autojumble ticket\, Land Rover Rummage brings together all the Land Rover spares you could need in one convenient area. \nYou can find out more about the Spring Autojumble here.
URL:http://themotoringdiary.com/event/land-rover-rummage/
LOCATION:National Motor Museum\, Beaulieu\, Brockenhurst\, Beaulieu\, Hampshire\, SO42 7ZN\, United Kingdom
CATEGORIES:2022,Classic Car Show,Museums,National Motor Museum,Shows
ATTACH;FMTTYPE=image/png:http://themotoringdiary.com/wp-content/uploads/2021/11/Beaulieu.png
GEO:50.8230206;-1.4536012
X-APPLE-STRUCTURED-LOCATION;VALUE=URI;X-ADDRESS=National Motor Museum Beaulieu Brockenhurst Beaulieu Hampshire SO42 7ZN United Kingdom;X-APPLE-RADIUS=500;X-TITLE=Brockenhurst:geo:-1.4536012,50.8230206
END:VEVENT
END:VCALENDAR