BEGIN:VCALENDAR
VERSION:2.0
PRODID:-//The Motoring Diary - ECPv6.15.20//NONSGML v1.0//EN
CALSCALE:GREGORIAN
METHOD:PUBLISH
X-WR-CALNAME:The Motoring Diary
X-ORIGINAL-URL:http://themotoringdiary.com
X-WR-CALDESC:Events for The Motoring Diary
REFRESH-INTERVAL;VALUE=DURATION:PT1H
X-Robots-Tag:noindex
X-PUBLISHED-TTL:PT1H
BEGIN:VTIMEZONE
TZID:Europe/London
BEGIN:DAYLIGHT
TZOFFSETFROM:+0000
TZOFFSETTO:+0100
TZNAME:BST
DTSTART:20220327T010000
END:DAYLIGHT
BEGIN:STANDARD
TZOFFSETFROM:+0100
TZOFFSETTO:+0000
TZNAME:GMT
DTSTART:20221030T010000
END:STANDARD
BEGIN:DAYLIGHT
TZOFFSETFROM:+0000
TZOFFSETTO:+0100
TZNAME:BST
DTSTART:20230326T010000
END:DAYLIGHT
BEGIN:STANDARD
TZOFFSETFROM:+0100
TZOFFSETTO:+0000
TZNAME:GMT
DTSTART:20231029T010000
END:STANDARD
BEGIN:DAYLIGHT
TZOFFSETFROM:+0000
TZOFFSETTO:+0100
TZNAME:BST
DTSTART:20240331T010000
END:DAYLIGHT
BEGIN:STANDARD
TZOFFSETFROM:+0100
TZOFFSETTO:+0000
TZNAME:GMT
DTSTART:20241027T010000
END:STANDARD
END:VTIMEZONE
BEGIN:VEVENT
DTSTART;VALUE=DATE:20231005
DTEND;VALUE=DATE:20231008
DTSTAMP:20260424T113820
CREATED:20230124T172650Z
LAST-MODIFIED:20230124T172650Z
UID:39894-1696464000-1696723199@themotoringdiary.com
SUMMARY:Intercontinental GT - Indianapolis 8 Hours
DESCRIPTION:
URL:http://themotoringdiary.com/event/intercontinental-gt-indianapolis-8-hours-2/
LOCATION:Indianapolis Motor Speedway\, 4790 W 16th Street\, Indianapolis\, IL\, 46222
CATEGORIES:2023,Intercontinental GT,Motorsport,Sportscars
ATTACH;FMTTYPE=image/png:http://themotoringdiary.com/wp-content/uploads/2023/01/Intercontinental-0GYiHu.tmp_.png
ORGANIZER;CN="SRO Motorsports Group":MAILTO:aaron@sro-motorsports.com
GEO:39.7953542;-86.2353006
X-APPLE-STRUCTURED-LOCATION;VALUE=URI;X-ADDRESS=Indianapolis Motor Speedway 4790 W 16th Street Indianapolis IL 46222;X-APPLE-RADIUS=500;X-TITLE=4790 W 16th Street:geo:-86.2353006,39.7953542
END:VEVENT
END:VCALENDAR