BEGIN:VCALENDAR
VERSION:2.0
PRODID:-//The Motoring Diary - ECPv6.15.20//NONSGML v1.0//EN
CALSCALE:GREGORIAN
METHOD:PUBLISH
X-WR-CALNAME:The Motoring Diary
X-ORIGINAL-URL:http://themotoringdiary.com
X-WR-CALDESC:Events for The Motoring Diary
REFRESH-INTERVAL;VALUE=DURATION:PT1H
X-Robots-Tag:noindex
X-PUBLISHED-TTL:PT1H
BEGIN:VTIMEZONE
TZID:Europe/London
BEGIN:DAYLIGHT
TZOFFSETFROM:+0000
TZOFFSETTO:+0100
TZNAME:BST
DTSTART:20220327T010000
END:DAYLIGHT
BEGIN:STANDARD
TZOFFSETFROM:+0100
TZOFFSETTO:+0000
TZNAME:GMT
DTSTART:20221030T010000
END:STANDARD
BEGIN:DAYLIGHT
TZOFFSETFROM:+0000
TZOFFSETTO:+0100
TZNAME:BST
DTSTART:20230326T010000
END:DAYLIGHT
BEGIN:STANDARD
TZOFFSETFROM:+0100
TZOFFSETTO:+0000
TZNAME:GMT
DTSTART:20231029T010000
END:STANDARD
BEGIN:DAYLIGHT
TZOFFSETFROM:+0000
TZOFFSETTO:+0100
TZNAME:BST
DTSTART:20240331T010000
END:DAYLIGHT
BEGIN:STANDARD
TZOFFSETFROM:+0100
TZOFFSETTO:+0000
TZNAME:GMT
DTSTART:20241027T010000
END:STANDARD
END:VTIMEZONE
BEGIN:VEVENT
DTSTART;VALUE=DATE:20230430
DTEND;VALUE=DATE:20230501
DTSTAMP:20260425T190436
CREATED:20230215T130425Z
LAST-MODIFIED:20230215T130425Z
UID:39973-1682812800-1682899199@themotoringdiary.com
SUMMARY:Indycar - Barber Motorsports Park
DESCRIPTION:
URL:http://themotoringdiary.com/event/indycar-barber-motorsports-park-2/
LOCATION:Barber Motorsports Park\, Birmingham\, Alabama\, USA
CATEGORIES:2023,Indycar,Motorsport,Single Seaters
ATTACH;FMTTYPE=image/jpeg:http://themotoringdiary.com/wp-content/uploads/2023/02/Indycar-series-huEmuQ.tmp_.jpg
GEO:33.5185892;'-86.8103567
X-APPLE-STRUCTURED-LOCATION;VALUE=URI;X-ADDRESS=Barber Motorsports Park Birmingham Alabama USA;X-APPLE-RADIUS=500;X-TITLE=Birmingham:geo:'-86.8103567,33.5185892
END:VEVENT
END:VCALENDAR