BEGIN:VCALENDAR
VERSION:2.0
PRODID:-//The Motoring Diary - ECPv6.15.20//NONSGML v1.0//EN
CALSCALE:GREGORIAN
METHOD:PUBLISH
X-WR-CALNAME:The Motoring Diary
X-ORIGINAL-URL:http://themotoringdiary.com
X-WR-CALDESC:Events for The Motoring Diary
REFRESH-INTERVAL;VALUE=DURATION:PT1H
X-Robots-Tag:noindex
X-PUBLISHED-TTL:PT1H
BEGIN:VTIMEZONE
TZID:Europe/London
BEGIN:DAYLIGHT
TZOFFSETFROM:+0000
TZOFFSETTO:+0100
TZNAME:BST
DTSTART:20220327T010000
END:DAYLIGHT
BEGIN:STANDARD
TZOFFSETFROM:+0100
TZOFFSETTO:+0000
TZNAME:GMT
DTSTART:20221030T010000
END:STANDARD
BEGIN:DAYLIGHT
TZOFFSETFROM:+0000
TZOFFSETTO:+0100
TZNAME:BST
DTSTART:20230326T010000
END:DAYLIGHT
BEGIN:STANDARD
TZOFFSETFROM:+0100
TZOFFSETTO:+0000
TZNAME:GMT
DTSTART:20231029T010000
END:STANDARD
BEGIN:DAYLIGHT
TZOFFSETFROM:+0000
TZOFFSETTO:+0100
TZNAME:BST
DTSTART:20240331T010000
END:DAYLIGHT
BEGIN:STANDARD
TZOFFSETFROM:+0100
TZOFFSETTO:+0000
TZNAME:GMT
DTSTART:20241027T010000
END:STANDARD
END:VTIMEZONE
BEGIN:VEVENT
DTSTART;VALUE=DATE:20230803
DTEND;VALUE=DATE:20230807
DTSTAMP:20260421T134149
CREATED:20230106T093904Z
LAST-MODIFIED:20230106T093904Z
UID:39612-1691020800-1691366399@themotoringdiary.com
SUMMARY:IMSA - Sports Car Weekend
DESCRIPTION:
URL:http://themotoringdiary.com/event/imsa-sports-car-weekend-2/
LOCATION:Road America\, Elkhart Lake\, Wisconsin\, USA
CATEGORIES:2023,IMSA SportsCar,Motorsport,Sportscars
ATTACH;FMTTYPE=image/png:http://themotoringdiary.com/wp-content/uploads/2023/01/WeatherTech-IMSA-ltpO9W.tmp_.png
GEO:43.8333269;'-88.0178729
X-APPLE-STRUCTURED-LOCATION;VALUE=URI;X-ADDRESS=Road America Elkhart Lake Wisconsin USA;X-APPLE-RADIUS=500;X-TITLE=Elkhart Lake:geo:'-88.0178729,43.8333269
END:VEVENT
END:VCALENDAR