BEGIN:VCALENDAR
VERSION:2.0
PRODID:-//The Motoring Diary - ECPv6.15.20//NONSGML v1.0//EN
CALSCALE:GREGORIAN
METHOD:PUBLISH
X-WR-CALNAME:The Motoring Diary
X-ORIGINAL-URL:http://themotoringdiary.com
X-WR-CALDESC:Events for The Motoring Diary
REFRESH-INTERVAL;VALUE=DURATION:PT1H
X-Robots-Tag:noindex
X-PUBLISHED-TTL:PT1H
BEGIN:VTIMEZONE
TZID:Europe/London
BEGIN:DAYLIGHT
TZOFFSETFROM:+0000
TZOFFSETTO:+0100
TZNAME:BST
DTSTART:20210328T010000
END:DAYLIGHT
BEGIN:STANDARD
TZOFFSETFROM:+0100
TZOFFSETTO:+0000
TZNAME:GMT
DTSTART:20211031T010000
END:STANDARD
BEGIN:DAYLIGHT
TZOFFSETFROM:+0000
TZOFFSETTO:+0100
TZNAME:BST
DTSTART:20220327T010000
END:DAYLIGHT
BEGIN:STANDARD
TZOFFSETFROM:+0100
TZOFFSETTO:+0000
TZNAME:GMT
DTSTART:20221030T010000
END:STANDARD
BEGIN:DAYLIGHT
TZOFFSETFROM:+0000
TZOFFSETTO:+0100
TZNAME:BST
DTSTART:20230326T010000
END:DAYLIGHT
BEGIN:STANDARD
TZOFFSETFROM:+0100
TZOFFSETTO:+0000
TZNAME:GMT
DTSTART:20231029T010000
END:STANDARD
END:VTIMEZONE
BEGIN:VEVENT
DTSTART;VALUE=DATE:20220619
DTEND;VALUE=DATE:20220620
DTSTAMP:20260421T142408
CREATED:20211223T201045Z
LAST-MODIFIED:20211223T202524Z
UID:36947-1655596800-1655683199@themotoringdiary.com
SUMMARY:Hot Rod & Custom Show
DESCRIPTION:We are pleased to announce the return of Hot Rod and Custom in 2022 on 19th June. The South’s biggest Hot Rod and Custom returns on Father’s Day and features hundreds of cool\, colourful\, custom cars\, live music and hip entertainment throughout the day!
URL:http://themotoringdiary.com/event/hot-rod-custom-show/
LOCATION:National Motor Museum\, Beaulieu\, Brockenhurst\, Beaulieu\, Hampshire\, SO42 7ZN\, United Kingdom
CATEGORIES:2022,Classic Car Show,Museums,National Motor Museum,Shows
ATTACH;FMTTYPE=image/png:http://themotoringdiary.com/wp-content/uploads/2021/11/Beaulieu.png
GEO:50.8230206;-1.4536012
X-APPLE-STRUCTURED-LOCATION;VALUE=URI;X-ADDRESS=National Motor Museum Beaulieu Brockenhurst Beaulieu Hampshire SO42 7ZN United Kingdom;X-APPLE-RADIUS=500;X-TITLE=Brockenhurst:geo:-1.4536012,50.8230206
END:VEVENT
END:VCALENDAR