BEGIN:VCALENDAR
VERSION:2.0
PRODID:-//The Motoring Diary - ECPv6.15.20//NONSGML v1.0//EN
CALSCALE:GREGORIAN
METHOD:PUBLISH
X-WR-CALNAME:The Motoring Diary
X-ORIGINAL-URL:http://themotoringdiary.com
X-WR-CALDESC:Events for The Motoring Diary
REFRESH-INTERVAL;VALUE=DURATION:PT1H
X-Robots-Tag:noindex
X-PUBLISHED-TTL:PT1H
BEGIN:VTIMEZONE
TZID:Europe/London
BEGIN:DAYLIGHT
TZOFFSETFROM:+0000
TZOFFSETTO:+0100
TZNAME:BST
DTSTART:20210328T010000
END:DAYLIGHT
BEGIN:STANDARD
TZOFFSETFROM:+0100
TZOFFSETTO:+0000
TZNAME:GMT
DTSTART:20211031T010000
END:STANDARD
BEGIN:DAYLIGHT
TZOFFSETFROM:+0000
TZOFFSETTO:+0100
TZNAME:BST
DTSTART:20220327T010000
END:DAYLIGHT
BEGIN:STANDARD
TZOFFSETFROM:+0100
TZOFFSETTO:+0000
TZNAME:GMT
DTSTART:20221030T010000
END:STANDARD
BEGIN:DAYLIGHT
TZOFFSETFROM:+0000
TZOFFSETTO:+0100
TZNAME:BST
DTSTART:20230326T010000
END:DAYLIGHT
BEGIN:STANDARD
TZOFFSETFROM:+0100
TZOFFSETTO:+0000
TZNAME:GMT
DTSTART:20231029T010000
END:STANDARD
END:VTIMEZONE
BEGIN:VEVENT
DTSTART;VALUE=DATE:20220401
DTEND;VALUE=DATE:20220404
DTSTAMP:20260421T115131
CREATED:20211224T090010Z
LAST-MODIFIED:20211224T090010Z
UID:37121-1648771200-1649030399@themotoringdiary.com
SUMMARY:GT4 European Series - Imola
DESCRIPTION:
URL:http://themotoringdiary.com/event/gt4-european-series-imola/
LOCATION:Autodromo Internazionale Enzo e Dino Ferrari\, Piazza Ayrton Senna da Silva\, 1\, 40026 Imola BO\, Italy
CATEGORIES:2022,GT racing,GT4 European,Motorsport,Sportscars,SRO
ATTACH;FMTTYPE=image/png:http://themotoringdiary.com/wp-content/uploads/2021/11/GT4-European.png
ORGANIZER;CN="SRO Motorsports Group":MAILTO:aaron@sro-motorsports.com
GEO:44.3445875;11.7148859
X-APPLE-STRUCTURED-LOCATION;VALUE=URI;X-ADDRESS=Autodromo Internazionale Enzo e Dino Ferrari Piazza Ayrton Senna da Silva 1 40026 Imola BO Italy;X-APPLE-RADIUS=500;X-TITLE=Piazza Ayrton Senna da Silva:geo:11.7148859,44.3445875
END:VEVENT
END:VCALENDAR