BEGIN:VCALENDAR
VERSION:2.0
PRODID:-//The Motoring Diary - ECPv6.15.20//NONSGML v1.0//EN
CALSCALE:GREGORIAN
METHOD:PUBLISH
X-WR-CALNAME:The Motoring Diary
X-ORIGINAL-URL:http://themotoringdiary.com
X-WR-CALDESC:Events for The Motoring Diary
REFRESH-INTERVAL;VALUE=DURATION:PT1H
X-Robots-Tag:noindex
X-PUBLISHED-TTL:PT1H
BEGIN:VTIMEZONE
TZID:Europe/London
BEGIN:DAYLIGHT
TZOFFSETFROM:+0000
TZOFFSETTO:+0100
TZNAME:BST
DTSTART:20210328T010000
END:DAYLIGHT
BEGIN:STANDARD
TZOFFSETFROM:+0100
TZOFFSETTO:+0000
TZNAME:GMT
DTSTART:20211031T010000
END:STANDARD
BEGIN:DAYLIGHT
TZOFFSETFROM:+0000
TZOFFSETTO:+0100
TZNAME:BST
DTSTART:20220327T010000
END:DAYLIGHT
BEGIN:STANDARD
TZOFFSETFROM:+0100
TZOFFSETTO:+0000
TZNAME:GMT
DTSTART:20221030T010000
END:STANDARD
BEGIN:DAYLIGHT
TZOFFSETFROM:+0000
TZOFFSETTO:+0100
TZNAME:BST
DTSTART:20230326T010000
END:DAYLIGHT
BEGIN:STANDARD
TZOFFSETFROM:+0100
TZOFFSETTO:+0000
TZNAME:GMT
DTSTART:20231029T010000
END:STANDARD
END:VTIMEZONE
BEGIN:VEVENT
DTSTART;VALUE=DATE:20220611
DTEND;VALUE=DATE:20220613
DTSTAMP:20260426T032433
CREATED:20220111T171008Z
LAST-MODIFIED:20220111T171754Z
UID:38395-1654905600-1655078399@themotoringdiary.com
SUMMARY:GT Cup Championship
DESCRIPTION:GT Cup Championship Rounds 9\, 10\, 11 & 12 – Snetterton 300
URL:http://themotoringdiary.com/event/gt-cup-championship-3/
LOCATION:Snetterton\, Norwich\, Norfolk\, NR16 2JU\, United Kingdom
CATEGORIES:2022,Bute Motorsport,Club Motorsport,GT Cup,Motorsport
ATTACH;FMTTYPE=image/jpeg:http://themotoringdiary.com/wp-content/uploads/2022/01/GTCUP-EB-112-1-scaled.jpg
ORGANIZER;CN="Bute Motorsport":MAILTO:hannah@butemotorsport.com
GEO:52.4710039;0.9586157
END:VEVENT
END:VCALENDAR