BEGIN:VCALENDAR
VERSION:2.0
PRODID:-//The Motoring Diary - ECPv6.15.20//NONSGML v1.0//EN
CALSCALE:GREGORIAN
METHOD:PUBLISH
X-WR-CALNAME:The Motoring Diary
X-ORIGINAL-URL:http://themotoringdiary.com
X-WR-CALDESC:Events for The Motoring Diary
REFRESH-INTERVAL;VALUE=DURATION:PT1H
X-Robots-Tag:noindex
X-PUBLISHED-TTL:PT1H
BEGIN:VTIMEZONE
TZID:Europe/London
BEGIN:DAYLIGHT
TZOFFSETFROM:+0000
TZOFFSETTO:+0100
TZNAME:BST
DTSTART:20210328T010000
END:DAYLIGHT
BEGIN:STANDARD
TZOFFSETFROM:+0100
TZOFFSETTO:+0000
TZNAME:GMT
DTSTART:20211031T010000
END:STANDARD
BEGIN:DAYLIGHT
TZOFFSETFROM:+0000
TZOFFSETTO:+0100
TZNAME:BST
DTSTART:20220327T010000
END:DAYLIGHT
BEGIN:STANDARD
TZOFFSETFROM:+0100
TZOFFSETTO:+0000
TZNAME:GMT
DTSTART:20221030T010000
END:STANDARD
BEGIN:DAYLIGHT
TZOFFSETFROM:+0000
TZOFFSETTO:+0100
TZNAME:BST
DTSTART:20230326T010000
END:DAYLIGHT
BEGIN:STANDARD
TZOFFSETFROM:+0100
TZOFFSETTO:+0000
TZNAME:GMT
DTSTART:20231029T010000
END:STANDARD
END:VTIMEZONE
BEGIN:VEVENT
DTSTART;TZID=Europe/London:20220507T100000
DTEND;TZID=Europe/London:20220508T160000
DTSTAMP:20260423T111828
CREATED:20211223T172642Z
LAST-MODIFIED:20211224T100341Z
UID:36831-1651917600-1652025600@themotoringdiary.com
SUMMARY:Gaydon Land Rover Show
DESCRIPTION:This is one of the biggest days in the calendar for Land Rover fans and families. The Show boasts hundreds of these cars and also gives you the opportunity to explore the fabulous car collection inside the Museum.\nThis year we’re excited to welcome Land Rover Experience who will be giving you the chance to experience their Land Rovers in action. We will have live commentary throughout the weekend\, talking to the clubs and hearing all about the stories behind their cars. There is also a selection of trade stands where you will find clothing\, models\, tools and accessories. Inside the Museum\, you will find plenty of Land Rovers on display including our showpiece ‘HUE 166’ AKA Huey – the first Land Rover ever produced. You won’t find that photo opportunity anywhere else in the world! \nFamilies will enjoy the ‘Mini Me’ kids trial with mini vintage and modern Land Rovers touring around the show arena. There will be live music from vintage singing trios ‘My Favourite Things’ on Saturday and ‘The Barn-Ettes’ on Sunday. Head to the Junction 12 Café for hot meals\, sweet treats and refreshments or enjoy ice creams and burgers outside. \nDon’t take our word for it\, recent visitors said: \n– “First class day\, highly recommend”\n– “Quite amazed at the variety of Land Rovers! The Museum itself was excellent”\n– “A very enjoyable day out!”
URL:http://themotoringdiary.com/event/gaydon-land-rover-show/
LOCATION:British Motor Museum\, Banbury Road\, Gaydon\, Warwickshire\, CV35 0BJ\, United Kingdom
CATEGORIES:2022,British Motor Museum,Classic Car Show,Museums,Shows
ATTACH;FMTTYPE=image/jpeg:http://themotoringdiary.com/wp-content/uploads/2021/11/British-Motor-Museum.jpg
ORGANIZER;CN="British Motor Museum":MAILTO:enquiries@britishmotormuseum.co.uk
GEO:52.1966401;-1.4808344
X-APPLE-STRUCTURED-LOCATION;VALUE=URI;X-ADDRESS=British Motor Museum Banbury Road Gaydon Warwickshire CV35 0BJ United Kingdom;X-APPLE-RADIUS=500;X-TITLE=Banbury Road:geo:-1.4808344,52.1966401
END:VEVENT
END:VCALENDAR