BEGIN:VCALENDAR
VERSION:2.0
PRODID:-//The Motoring Diary - ECPv6.15.20//NONSGML v1.0//EN
CALSCALE:GREGORIAN
METHOD:PUBLISH
X-WR-CALNAME:The Motoring Diary
X-ORIGINAL-URL:http://themotoringdiary.com
X-WR-CALDESC:Events for The Motoring Diary
REFRESH-INTERVAL;VALUE=DURATION:PT1H
X-Robots-Tag:noindex
X-PUBLISHED-TTL:PT1H
BEGIN:VTIMEZONE
TZID:Europe/London
BEGIN:DAYLIGHT
TZOFFSETFROM:+0000
TZOFFSETTO:+0100
TZNAME:BST
DTSTART:20220327T010000
END:DAYLIGHT
BEGIN:STANDARD
TZOFFSETFROM:+0100
TZOFFSETTO:+0000
TZNAME:GMT
DTSTART:20221030T010000
END:STANDARD
BEGIN:DAYLIGHT
TZOFFSETFROM:+0000
TZOFFSETTO:+0100
TZNAME:BST
DTSTART:20230326T010000
END:DAYLIGHT
BEGIN:STANDARD
TZOFFSETFROM:+0100
TZOFFSETTO:+0000
TZNAME:GMT
DTSTART:20231029T010000
END:STANDARD
BEGIN:DAYLIGHT
TZOFFSETFROM:+0000
TZOFFSETTO:+0100
TZNAME:BST
DTSTART:20240331T010000
END:DAYLIGHT
BEGIN:STANDARD
TZOFFSETFROM:+0100
TZOFFSETTO:+0000
TZNAME:GMT
DTSTART:20241027T010000
END:STANDARD
END:VTIMEZONE
BEGIN:VEVENT
DTSTART;VALUE=DATE:20230825
DTEND;VALUE=DATE:20230828
DTSTAMP:20260423T143045
CREATED:20230215T121242Z
LAST-MODIFIED:20230215T121242Z
UID:39933-1692921600-1693180799@themotoringdiary.com
SUMMARY:FIA Formula 2\, Netherlands
DESCRIPTION:
URL:http://themotoringdiary.com/event/fia-formula-2-netherlands-2/
LOCATION:Circuit Park Zandvoort\, burgemeester van alphenstraat 108\, Zandvoort\, 2041\, Netherlands
CATEGORIES:2023,F2,Motorsport,Single Seaters
ATTACH;FMTTYPE=image/png:http://themotoringdiary.com/wp-content/uploads/2023/02/F2-X7aoh5.tmp_.png
GEO:52.3842476;4.5344808
X-APPLE-STRUCTURED-LOCATION;VALUE=URI;X-ADDRESS=Circuit Park Zandvoort burgemeester van alphenstraat 108 Zandvoort 2041 Netherlands;X-APPLE-RADIUS=500;X-TITLE=burgemeester van alphenstraat 108:geo:4.5344808,52.3842476
END:VEVENT
END:VCALENDAR