BEGIN:VCALENDAR
VERSION:2.0
PRODID:-//The Motoring Diary - ECPv6.15.20//NONSGML v1.0//EN
CALSCALE:GREGORIAN
METHOD:PUBLISH
X-WR-CALNAME:The Motoring Diary
X-ORIGINAL-URL:http://themotoringdiary.com
X-WR-CALDESC:Events for The Motoring Diary
REFRESH-INTERVAL;VALUE=DURATION:PT1H
X-Robots-Tag:noindex
X-PUBLISHED-TTL:PT1H
BEGIN:VTIMEZONE
TZID:Europe/London
BEGIN:DAYLIGHT
TZOFFSETFROM:+0000
TZOFFSETTO:+0100
TZNAME:BST
DTSTART:20220327T010000
END:DAYLIGHT
BEGIN:STANDARD
TZOFFSETFROM:+0100
TZOFFSETTO:+0000
TZNAME:GMT
DTSTART:20221030T010000
END:STANDARD
BEGIN:DAYLIGHT
TZOFFSETFROM:+0000
TZOFFSETTO:+0100
TZNAME:BST
DTSTART:20230326T010000
END:DAYLIGHT
BEGIN:STANDARD
TZOFFSETFROM:+0100
TZOFFSETTO:+0000
TZNAME:GMT
DTSTART:20231029T010000
END:STANDARD
BEGIN:DAYLIGHT
TZOFFSETFROM:+0000
TZOFFSETTO:+0100
TZNAME:BST
DTSTART:20240331T010000
END:DAYLIGHT
BEGIN:STANDARD
TZOFFSETFROM:+0100
TZOFFSETTO:+0000
TZNAME:GMT
DTSTART:20241027T010000
END:STANDARD
END:VTIMEZONE
BEGIN:VEVENT
DTSTART;VALUE=DATE:20230519
DTEND;VALUE=DATE:20230522
DTSTAMP:20260425T173855
CREATED:20230215T121001Z
LAST-MODIFIED:20230215T121001Z
UID:39925-1684454400-1684713599@themotoringdiary.com
SUMMARY:FIA Formula 2\, Imola
DESCRIPTION:
URL:http://themotoringdiary.com/event/fia-formula-2-imola-2/
LOCATION:Autodromo Internazionale Enzo e Dino Ferrari\, Piazza Ayrton Senna da Silva\, 1\, 40026 Imola BO\, Italy
CATEGORIES:2023,F2,Motorsport,Single Seaters
ATTACH;FMTTYPE=image/png:http://themotoringdiary.com/wp-content/uploads/2023/02/F2-X7aoh5.tmp_.png
GEO:44.3445875;11.7148859
X-APPLE-STRUCTURED-LOCATION;VALUE=URI;X-ADDRESS=Autodromo Internazionale Enzo e Dino Ferrari Piazza Ayrton Senna da Silva 1 40026 Imola BO Italy;X-APPLE-RADIUS=500;X-TITLE=Piazza Ayrton Senna da Silva:geo:11.7148859,44.3445875
END:VEVENT
END:VCALENDAR