BEGIN:VCALENDAR
VERSION:2.0
PRODID:-//The Motoring Diary - ECPv6.15.20//NONSGML v1.0//EN
CALSCALE:GREGORIAN
METHOD:PUBLISH
X-WR-CALNAME:The Motoring Diary
X-ORIGINAL-URL:http://themotoringdiary.com
X-WR-CALDESC:Events for The Motoring Diary
REFRESH-INTERVAL;VALUE=DURATION:PT1H
X-Robots-Tag:noindex
X-PUBLISHED-TTL:PT1H
BEGIN:VTIMEZONE
TZID:Europe/London
BEGIN:DAYLIGHT
TZOFFSETFROM:+0000
TZOFFSETTO:+0100
TZNAME:BST
DTSTART:20210328T010000
END:DAYLIGHT
BEGIN:STANDARD
TZOFFSETFROM:+0100
TZOFFSETTO:+0000
TZNAME:GMT
DTSTART:20211031T010000
END:STANDARD
BEGIN:DAYLIGHT
TZOFFSETFROM:+0000
TZOFFSETTO:+0100
TZNAME:BST
DTSTART:20220327T010000
END:DAYLIGHT
BEGIN:STANDARD
TZOFFSETFROM:+0100
TZOFFSETTO:+0000
TZNAME:GMT
DTSTART:20221030T010000
END:STANDARD
BEGIN:DAYLIGHT
TZOFFSETFROM:+0000
TZOFFSETTO:+0100
TZNAME:BST
DTSTART:20230326T010000
END:DAYLIGHT
BEGIN:STANDARD
TZOFFSETFROM:+0100
TZOFFSETTO:+0000
TZNAME:GMT
DTSTART:20231029T010000
END:STANDARD
END:VTIMEZONE
BEGIN:VEVENT
DTSTART;VALUE=DATE:20220522
DTEND;VALUE=DATE:20220523
DTSTAMP:20260425T191300
CREATED:20211224T141312Z
LAST-MODIFIED:20211227T090303Z
UID:37300-1653177600-1653263999@themotoringdiary.com
SUMMARY:F1 Spanish GP
DESCRIPTION:
URL:http://themotoringdiary.com/event/f1-spanish-gp/
LOCATION:Circuit de Barcelona-Catalunya\, Montmelo\, Barcelona\, Catalonia\, Spain
CATEGORIES:2022,F1,Motorsport,Single Seaters
ATTACH;FMTTYPE=image/jpeg:http://themotoringdiary.com/wp-content/uploads/2021/12/F1-Logo-800x533-1-O0bcdg.tmp_.jpg
ORGANIZER;CN="Formula 1":MAILTO:F1Media@F1.com
GEO:41.3850639;2.1734035
X-APPLE-STRUCTURED-LOCATION;VALUE=URI;X-ADDRESS=Circuit de Barcelona-Catalunya Montmelo Barcelona Catalonia Spain;X-APPLE-RADIUS=500;X-TITLE=Montmelo:geo:2.1734035,41.3850639
END:VEVENT
END:VCALENDAR