BEGIN:VCALENDAR
VERSION:2.0
PRODID:-//The Motoring Diary - ECPv6.15.20//NONSGML v1.0//EN
CALSCALE:GREGORIAN
METHOD:PUBLISH
X-WR-CALNAME:The Motoring Diary
X-ORIGINAL-URL:http://themotoringdiary.com
X-WR-CALDESC:Events for The Motoring Diary
REFRESH-INTERVAL;VALUE=DURATION:PT1H
X-Robots-Tag:noindex
X-PUBLISHED-TTL:PT1H
BEGIN:VTIMEZONE
TZID:Europe/London
BEGIN:DAYLIGHT
TZOFFSETFROM:+0000
TZOFFSETTO:+0100
TZNAME:BST
DTSTART:20210328T010000
END:DAYLIGHT
BEGIN:STANDARD
TZOFFSETFROM:+0100
TZOFFSETTO:+0000
TZNAME:GMT
DTSTART:20211031T010000
END:STANDARD
BEGIN:DAYLIGHT
TZOFFSETFROM:+0000
TZOFFSETTO:+0100
TZNAME:BST
DTSTART:20220327T010000
END:DAYLIGHT
BEGIN:STANDARD
TZOFFSETFROM:+0100
TZOFFSETTO:+0000
TZNAME:GMT
DTSTART:20221030T010000
END:STANDARD
BEGIN:DAYLIGHT
TZOFFSETFROM:+0000
TZOFFSETTO:+0100
TZNAME:BST
DTSTART:20230326T010000
END:DAYLIGHT
BEGIN:STANDARD
TZOFFSETFROM:+0100
TZOFFSETTO:+0000
TZNAME:GMT
DTSTART:20231029T010000
END:STANDARD
END:VTIMEZONE
BEGIN:VEVENT
DTSTART;VALUE=DATE:20220219
DTEND;VALUE=DATE:20220221
DTSTAMP:20260425T170013
CREATED:20211224T080454Z
LAST-MODIFIED:20220218T090333Z
UID:36995-1645228800-1645401599@themotoringdiary.com
SUMMARY:Extreme E - Saudi Arabia
DESCRIPTION:With the Desert X Prix in NEOM\, Saudi Arabia\, just days away\, the Championship is pleased to reveal another exciting course bringing the 10 teams and 20 world-class drivers a new set of challenges for the Season 2 opener. \nThe 6.9km course in NEOM offers breathtaking backdrops\, stunning rock formations and of course plenty of gradient changes. In stark contrast to the 2021 Desert X Prix in Al’Ula\, this race weekend will feature a launch off the start that is all uphill and takes the drivers across the lower part of the valley floor. \nThe first way point sits between two rock formations at the top of a short\, but steep\, incline as they head towards the first sharp direction change as the cars start their descent to the middle of the valley floor. \nDust will be a factor here\, but the width of the valley offers more than enough room to duck out of anything being lifted by the car in front\, allowing the drivers to stay on full throttle. On what will be a fast course\, the drivers are likely to be pushing the upgraded ODYSSEY 21 to the max for much of the lap. \nAnother steep climb takes the cars up to the first of two technical sections as they briefly climb on top of the edge of a rock formation\, before a sharp right-hand turn at the farthest point of the course. A steep but spectacular descent through the heavy red sand brings the cars onto the flat of the second valley floor\, before a short climb over another hill opens up to a wide and inviting section of the course where a myriad of racing lines will tempt the drivers to overtake. \nInto the last quarter of the course and the drivers will be full throttle for a blast up the steepest incline in deep sand that will certainly use up some energy from the battery. At the top of the hill\, the drivers turn a sharp right and over a blind crest\, hitting a steep descent towards the penultimate waypoint – a tight 90-degree left hander. \nOnce again into the deep red sand\, the cars will be working hard and powering up the last long run to the final waypoint. Depending on strategy\, some drivers could use Hyperdrive here to catch the car in front as it struggles up the hill\, but they’ll need to hang on as they go blind into the final turn at ninety-degrees and into a breathtakingly steep drop on the other side. The drivers will have to trust their skill and judgement as they fly down the steepest descent on the course\, bottoming out just before crossing the finish line. \nThe Desert X Prix takes place this weekend (19-20 February) and can be watched via a host of global broadcasters available to view here. In the Middle East\, the series airs on MBC Action\, Dubai Sports\, SSC\, beIN and W Sport.
URL:http://themotoringdiary.com/event/extreme-e-saudi-arabia/
LOCATION:Neom\, Saudi Arabia
CATEGORIES:2022,Extreme E,Motorsport
ATTACH;FMTTYPE=image/png:http://themotoringdiary.com/wp-content/uploads/2021/11/Extreme-E.png
GEO:24.694969;46.724129
END:VEVENT
END:VCALENDAR