BEGIN:VCALENDAR
VERSION:2.0
PRODID:-//The Motoring Diary - ECPv6.15.20//NONSGML v1.0//EN
CALSCALE:GREGORIAN
METHOD:PUBLISH
X-WR-CALNAME:The Motoring Diary
X-ORIGINAL-URL:http://themotoringdiary.com
X-WR-CALDESC:Events for The Motoring Diary
REFRESH-INTERVAL;VALUE=DURATION:PT1H
X-Robots-Tag:noindex
X-PUBLISHED-TTL:PT1H
BEGIN:VTIMEZONE
TZID:Europe/London
BEGIN:DAYLIGHT
TZOFFSETFROM:+0000
TZOFFSETTO:+0100
TZNAME:BST
DTSTART:20220327T010000
END:DAYLIGHT
BEGIN:STANDARD
TZOFFSETFROM:+0100
TZOFFSETTO:+0000
TZNAME:GMT
DTSTART:20221030T010000
END:STANDARD
BEGIN:DAYLIGHT
TZOFFSETFROM:+0000
TZOFFSETTO:+0100
TZNAME:BST
DTSTART:20230326T010000
END:DAYLIGHT
BEGIN:STANDARD
TZOFFSETFROM:+0100
TZOFFSETTO:+0000
TZNAME:GMT
DTSTART:20231029T010000
END:STANDARD
BEGIN:DAYLIGHT
TZOFFSETFROM:+0000
TZOFFSETTO:+0100
TZNAME:BST
DTSTART:20240331T010000
END:DAYLIGHT
BEGIN:STANDARD
TZOFFSETFROM:+0100
TZOFFSETTO:+0000
TZNAME:GMT
DTSTART:20241027T010000
END:STANDARD
END:VTIMEZONE
BEGIN:VEVENT
DTSTART;VALUE=DATE:20231202
DTEND;VALUE=DATE:20231204
DTSTAMP:20260423T111125
CREATED:20230215T154655Z
LAST-MODIFIED:20230215T154655Z
UID:40042-1701475200-1701647999@themotoringdiary.com
SUMMARY:Extreme E - Chile
DESCRIPTION:Teams will field one male and one female driver\, promoting gender equality and a level playing field amongst competitors.Each driver will complete one lap behind the wheel\, with a changeover incorporated into the race format. The teams will determine which driver goes first to best suit their strategy and driver order selections are made confidentially\, with competitors kept in the dark as to other teams’ choices until the cars reach the start-line. Contests between males and females will therefore be ensured.\nRACE WEEKEND FORMAT\nTwo days of racing – Saturday and Sunday.\nOne full battery charge per day for each team.\nEach team races twice on Saturday\, in Qualifying 1 and Qualifying 2.\nSemi-Final 1 and Semi-Final 2 (Crazy Race) and Final on Sunday.\nEach race is two laps – one lap driven by the female and one lap driven by the male.\nAll results based on race finishing position\, not time.
URL:http://themotoringdiary.com/event/extreme-e-chile-2/
CATEGORIES:2023,Extreme E,Motorsport
ATTACH;FMTTYPE=image/png:http://themotoringdiary.com/wp-content/uploads/2023/02/Extreme-E-23IwDH.tmp_.png
END:VEVENT
END:VCALENDAR