BEGIN:VCALENDAR
VERSION:2.0
PRODID:-//The Motoring Diary - ECPv6.15.20//NONSGML v1.0//EN
CALSCALE:GREGORIAN
METHOD:PUBLISH
X-WR-CALNAME:The Motoring Diary
X-ORIGINAL-URL:http://themotoringdiary.com
X-WR-CALDESC:Events for The Motoring Diary
REFRESH-INTERVAL;VALUE=DURATION:PT1H
X-Robots-Tag:noindex
X-PUBLISHED-TTL:PT1H
BEGIN:VTIMEZONE
TZID:Europe/London
BEGIN:DAYLIGHT
TZOFFSETFROM:+0000
TZOFFSETTO:+0100
TZNAME:BST
DTSTART:20220327T010000
END:DAYLIGHT
BEGIN:STANDARD
TZOFFSETFROM:+0100
TZOFFSETTO:+0000
TZNAME:GMT
DTSTART:20221030T010000
END:STANDARD
BEGIN:DAYLIGHT
TZOFFSETFROM:+0000
TZOFFSETTO:+0100
TZNAME:BST
DTSTART:20230326T010000
END:DAYLIGHT
BEGIN:STANDARD
TZOFFSETFROM:+0100
TZOFFSETTO:+0000
TZNAME:GMT
DTSTART:20231029T010000
END:STANDARD
BEGIN:DAYLIGHT
TZOFFSETFROM:+0000
TZOFFSETTO:+0100
TZNAME:BST
DTSTART:20240331T010000
END:DAYLIGHT
BEGIN:STANDARD
TZOFFSETFROM:+0100
TZOFFSETTO:+0000
TZNAME:GMT
DTSTART:20241027T010000
END:STANDARD
END:VTIMEZONE
BEGIN:VEVENT
DTSTART;VALUE=DATE:20230901
DTEND;VALUE=DATE:20230903
DTSTAMP:20260420T093658
CREATED:20230124T113716Z
LAST-MODIFIED:20230124T113716Z
UID:39706-1693526400-1693699199@themotoringdiary.com
SUMMARY:Eurojumble
DESCRIPTION:The ideal destination for traders and visitors alike\, the annual Carole Nash Eurojumble is one of the UK’s biggest bike autojumbles\, and it’s growing every year! From tyres to tinware and engines to oil\, there are thousands of bargains to be had on all manner of motorcycle related items. In its south coast location of Netley Marsh\, near Southampton\, this outdoor event welcomes visitors from both the UK and from far and wide across the continent\, as enthusiasts turn out in their droves to find that elusive part\, piece or spare\, or purchase their next project.
URL:http://themotoringdiary.com/event/eurojumble/
LOCATION:Meadow Mead Farm\, Ringwood Road\, Woodlands\, Southampton\, Hampshire\, SO40 7GY\, United Kingdom
CATEGORIES:2023,Autojumble,Automotive,Mortons Media
ATTACH;FMTTYPE=image/png:http://themotoringdiary.com/wp-content/uploads/2023/01/Euro-Jumble-csCoWK.tmp_.png
ORGANIZER;CN="Mortons Media Group":MAILTO:shows@mortons.co.uk
GEO:50.9155883;'-1.5300096
X-APPLE-STRUCTURED-LOCATION;VALUE=URI;X-ADDRESS=Meadow Mead Farm Ringwood Road Woodlands Southampton Hampshire SO40 7GY United Kingdom;X-APPLE-RADIUS=500;X-TITLE=Ringwood Road:geo:'-1.5300096,50.9155883
END:VEVENT
END:VCALENDAR