BEGIN:VCALENDAR
VERSION:2.0
PRODID:-//The Motoring Diary - ECPv6.15.20//NONSGML v1.0//EN
CALSCALE:GREGORIAN
METHOD:PUBLISH
X-WR-CALNAME:The Motoring Diary
X-ORIGINAL-URL:http://themotoringdiary.com
X-WR-CALDESC:Events for The Motoring Diary
REFRESH-INTERVAL;VALUE=DURATION:PT1H
X-Robots-Tag:noindex
X-PUBLISHED-TTL:PT1H
BEGIN:VTIMEZONE
TZID:Europe/London
BEGIN:DAYLIGHT
TZOFFSETFROM:+0000
TZOFFSETTO:+0100
TZNAME:BST
DTSTART:20220327T010000
END:DAYLIGHT
BEGIN:STANDARD
TZOFFSETFROM:+0100
TZOFFSETTO:+0000
TZNAME:GMT
DTSTART:20221030T010000
END:STANDARD
BEGIN:DAYLIGHT
TZOFFSETFROM:+0000
TZOFFSETTO:+0100
TZNAME:BST
DTSTART:20230326T010000
END:DAYLIGHT
BEGIN:STANDARD
TZOFFSETFROM:+0100
TZOFFSETTO:+0000
TZNAME:GMT
DTSTART:20231029T010000
END:STANDARD
BEGIN:DAYLIGHT
TZOFFSETFROM:+0000
TZOFFSETTO:+0100
TZNAME:BST
DTSTART:20240331T010000
END:DAYLIGHT
BEGIN:STANDARD
TZOFFSETFROM:+0100
TZOFFSETTO:+0000
TZNAME:GMT
DTSTART:20241027T010000
END:STANDARD
END:VTIMEZONE
BEGIN:VEVENT
DTSTART;TZID=Europe/London:20230917T080000
DTEND;TZID=Europe/London:20230917T094500
DTSTAMP:20260423T155333
CREATED:20230301T170653Z
LAST-MODIFIED:20230301T170653Z
UID:40313-1694937600-1694943900@themotoringdiary.com
SUMMARY:Emergency Services Day
DESCRIPTION:Every conceivable vehicle and pieces of apparatus used in the emergency services will grace the Museum site in an impressive line-up of display and serving vehicles.\nThis event continues to grow in popularity and presents an exciting but safe environment for you to witness the serious nature of what men and women do all over the country every day to make our world safe and save lives. \nThere will be additional catering outlets around the site\, but if you’d like to skip the queues\, why not bring a picnic\, we have plenty of picnic areas available. \nPlus Skye\, Chase and Marshall from PAW Patrol will be making special appearances.
URL:http://themotoringdiary.com/event/emergency-services-day-2/
LOCATION:Brooklands Museum\, Brooklands Road\, Weybridge\, Surrey\, KT13 0QN\, United Kingdom
CATEGORIES:2023,Brooklands,Classic Car Show,Museums,Shows
ATTACH;FMTTYPE=image/png:http://themotoringdiary.com/wp-content/uploads/2023/03/Brooklands-3Qdy3o.tmp_.png
GEO:51.3518475;-0.459869
X-APPLE-STRUCTURED-LOCATION;VALUE=URI;X-ADDRESS=Brooklands Museum Brooklands Road Weybridge Surrey KT13 0QN United Kingdom;X-APPLE-RADIUS=500;X-TITLE=Brooklands Road:geo:-0.459869,51.3518475
END:VEVENT
END:VCALENDAR