BEGIN:VCALENDAR
VERSION:2.0
PRODID:-//The Motoring Diary - ECPv6.15.20//NONSGML v1.0//EN
CALSCALE:GREGORIAN
METHOD:PUBLISH
X-WR-CALNAME:The Motoring Diary
X-ORIGINAL-URL:http://themotoringdiary.com
X-WR-CALDESC:Events for The Motoring Diary
REFRESH-INTERVAL;VALUE=DURATION:PT1H
X-Robots-Tag:noindex
X-PUBLISHED-TTL:PT1H
BEGIN:VTIMEZONE
TZID:Europe/London
BEGIN:DAYLIGHT
TZOFFSETFROM:+0000
TZOFFSETTO:+0100
TZNAME:BST
DTSTART:20210328T010000
END:DAYLIGHT
BEGIN:STANDARD
TZOFFSETFROM:+0100
TZOFFSETTO:+0000
TZNAME:GMT
DTSTART:20211031T010000
END:STANDARD
BEGIN:DAYLIGHT
TZOFFSETFROM:+0000
TZOFFSETTO:+0100
TZNAME:BST
DTSTART:20220327T010000
END:DAYLIGHT
BEGIN:STANDARD
TZOFFSETFROM:+0100
TZOFFSETTO:+0000
TZNAME:GMT
DTSTART:20221030T010000
END:STANDARD
BEGIN:DAYLIGHT
TZOFFSETFROM:+0000
TZOFFSETTO:+0100
TZNAME:BST
DTSTART:20230326T010000
END:DAYLIGHT
BEGIN:STANDARD
TZOFFSETFROM:+0100
TZOFFSETTO:+0000
TZNAME:GMT
DTSTART:20231029T010000
END:STANDARD
END:VTIMEZONE
BEGIN:VEVENT
DTSTART;TZID=Europe/London:20220504T163000
DTEND;TZID=Europe/London:20220504T210000
DTSTAMP:20260423T175151
CREATED:20220420T162025Z
LAST-MODIFIED:20220420T162025Z
UID:10003959-1651681800-1651698000@themotoringdiary.com
SUMMARY:Earls Barton Classic Car and Bike Meet
DESCRIPTION:The Earls Barton Classic Car and Bike Meet is held on the First Wednesday of the month until September\, NN6 0EP\, just off junction 10 of the A45. Gates open at 4.30pm till 9pm. \nCome along and join like-minded enthusiasts to view a vast array of vehicles from all eras. Subscribe on the website www.ClassicCarMeet.co.uk to ensure you receive up to date information of forthcoming “Meets”. Any further information\, please email info@ClassicCarMeet.co.uk
URL:http://themotoringdiary.com/event/earls-barton-classic-car-and-bike-meet/2022-05-04/
LOCATION:Whites Nurseries\, Earls Barton\,\, Northants\, Choose...\, NN6 0HF\, United Kingdom
CATEGORIES:2022,Shows,Social Meets
ATTACH;FMTTYPE=image/jpeg:http://themotoringdiary.com/wp-content/uploads/2022/04/Earls-Barton.jpg
GEO:52.2578297;-0.7612678
X-APPLE-STRUCTURED-LOCATION;VALUE=URI;X-ADDRESS=Whites Nurseries Earls Barton Northants Choose... NN6 0HF United Kingdom;X-APPLE-RADIUS=500;X-TITLE=Earls Barton\,:geo:-0.7612678,52.2578297
END:VEVENT
END:VCALENDAR