BEGIN:VCALENDAR
VERSION:2.0
PRODID:-//The Motoring Diary - ECPv6.15.20//NONSGML v1.0//EN
CALSCALE:GREGORIAN
METHOD:PUBLISH
X-WR-CALNAME:The Motoring Diary
X-ORIGINAL-URL:http://themotoringdiary.com
X-WR-CALDESC:Events for The Motoring Diary
REFRESH-INTERVAL;VALUE=DURATION:PT1H
X-Robots-Tag:noindex
X-PUBLISHED-TTL:PT1H
BEGIN:VTIMEZONE
TZID:Europe/London
BEGIN:DAYLIGHT
TZOFFSETFROM:+0000
TZOFFSETTO:+0100
TZNAME:BST
DTSTART:20210328T010000
END:DAYLIGHT
BEGIN:STANDARD
TZOFFSETFROM:+0100
TZOFFSETTO:+0000
TZNAME:GMT
DTSTART:20211031T010000
END:STANDARD
BEGIN:DAYLIGHT
TZOFFSETFROM:+0000
TZOFFSETTO:+0100
TZNAME:BST
DTSTART:20220327T010000
END:DAYLIGHT
BEGIN:STANDARD
TZOFFSETFROM:+0100
TZOFFSETTO:+0000
TZNAME:GMT
DTSTART:20221030T010000
END:STANDARD
BEGIN:DAYLIGHT
TZOFFSETFROM:+0000
TZOFFSETTO:+0100
TZNAME:BST
DTSTART:20230326T010000
END:DAYLIGHT
BEGIN:STANDARD
TZOFFSETFROM:+0100
TZOFFSETTO:+0000
TZNAME:GMT
DTSTART:20231029T010000
END:STANDARD
END:VTIMEZONE
BEGIN:VEVENT
DTSTART;VALUE=DATE:20220826
DTEND;VALUE=DATE:20220829
DTSTAMP:20260422T102648
CREATED:20211224T162526Z
LAST-MODIFIED:20211224T162526Z
UID:37454-1661472000-1661731199@themotoringdiary.com
SUMMARY:DTM - Nurburgring
DESCRIPTION:No other race series worldwide is combining tradition and modernism in such a perfect way as the DTM. Here\, young and elder spectators get to see fascinating motorsport. The touring car races are challenging\, spectacular and many legends are surrounding them. The DTM can’t be compared with anything else. It sparks emotions and invites to dream. Brave overtaking manouevres\, continuous on-track action\, pushing at the limit. Anyone who has ever attended a race is always happy to come back. The DTM is unique.
URL:http://themotoringdiary.com/event/dtm-nurburgring/
LOCATION:Nurburgring\, Nürburgring Boulevard 1\, Nürburg\, 53520\, Germany
CATEGORIES:2022,DTM,Motorsport,Touring Cars
ATTACH;FMTTYPE=image/png:http://themotoringdiary.com/wp-content/uploads/2021/11/DTM.png
GEO:50.3340981;6.9426625
X-APPLE-STRUCTURED-LOCATION;VALUE=URI;X-ADDRESS=Nurburgring Nürburgring Boulevard 1 Nürburg 53520 Germany;X-APPLE-RADIUS=500;X-TITLE=Nürburgring Boulevard 1:geo:6.9426625,50.3340981
END:VEVENT
END:VCALENDAR