BEGIN:VCALENDAR
VERSION:2.0
PRODID:-//The Motoring Diary - ECPv6.15.20//NONSGML v1.0//EN
CALSCALE:GREGORIAN
METHOD:PUBLISH
X-WR-CALNAME:The Motoring Diary
X-ORIGINAL-URL:http://themotoringdiary.com
X-WR-CALDESC:Events for The Motoring Diary
REFRESH-INTERVAL;VALUE=DURATION:PT1H
X-Robots-Tag:noindex
X-PUBLISHED-TTL:PT1H
BEGIN:VTIMEZONE
TZID:Europe/London
BEGIN:DAYLIGHT
TZOFFSETFROM:+0000
TZOFFSETTO:+0100
TZNAME:BST
DTSTART:20210328T010000
END:DAYLIGHT
BEGIN:STANDARD
TZOFFSETFROM:+0100
TZOFFSETTO:+0000
TZNAME:GMT
DTSTART:20211031T010000
END:STANDARD
BEGIN:DAYLIGHT
TZOFFSETFROM:+0000
TZOFFSETTO:+0100
TZNAME:BST
DTSTART:20220327T010000
END:DAYLIGHT
BEGIN:STANDARD
TZOFFSETFROM:+0100
TZOFFSETTO:+0000
TZNAME:GMT
DTSTART:20221030T010000
END:STANDARD
BEGIN:DAYLIGHT
TZOFFSETFROM:+0000
TZOFFSETTO:+0100
TZNAME:BST
DTSTART:20230326T010000
END:DAYLIGHT
BEGIN:STANDARD
TZOFFSETFROM:+0100
TZOFFSETTO:+0000
TZNAME:GMT
DTSTART:20231029T010000
END:STANDARD
END:VTIMEZONE
BEGIN:VEVENT
DTSTART;TZID=Europe/London:20220101T120000
DTEND;TZID=Europe/London:20220101T150000
DTSTAMP:20260422T163328
CREATED:20211223T170304Z
LAST-MODIFIED:20211224T084244Z
UID:36784-1641038400-1641049200@themotoringdiary.com
SUMMARY:Cotwolds New Years Day Gathering
DESCRIPTION:A major event on the classic car club scene and has become the biggest New Year’s Day meet in the South West.
URL:http://themotoringdiary.com/event/cotwolds-new-years-day-gathering/
LOCATION:The Frogmill Inn\, Shipton Oliffe\, Gloucestershire\, GL54 4HT\, United Kingdom
CATEGORIES:2022,Cotswold Classic Car Club,Social Meets
ATTACH;FMTTYPE=image/jpeg:http://themotoringdiary.com/wp-content/uploads/2021/11/Cotswold-NYD-Gathering.jpg
ORGANIZER;CN="Cotswold Classic Car Club":MAILTO:cccccomms@outlook.com
GEO:51.863256;-1.9619694
END:VEVENT
END:VCALENDAR