BEGIN:VCALENDAR
VERSION:2.0
PRODID:-//The Motoring Diary - ECPv6.15.20//NONSGML v1.0//EN
CALSCALE:GREGORIAN
METHOD:PUBLISH
X-WR-CALNAME:The Motoring Diary
X-ORIGINAL-URL:http://themotoringdiary.com
X-WR-CALDESC:Events for The Motoring Diary
REFRESH-INTERVAL;VALUE=DURATION:PT1H
X-Robots-Tag:noindex
X-PUBLISHED-TTL:PT1H
BEGIN:VTIMEZONE
TZID:Europe/London
BEGIN:DAYLIGHT
TZOFFSETFROM:+0000
TZOFFSETTO:+0100
TZNAME:BST
DTSTART:20210328T010000
END:DAYLIGHT
BEGIN:STANDARD
TZOFFSETFROM:+0100
TZOFFSETTO:+0000
TZNAME:GMT
DTSTART:20211031T010000
END:STANDARD
BEGIN:DAYLIGHT
TZOFFSETFROM:+0000
TZOFFSETTO:+0100
TZNAME:BST
DTSTART:20220327T010000
END:DAYLIGHT
BEGIN:STANDARD
TZOFFSETFROM:+0100
TZOFFSETTO:+0000
TZNAME:GMT
DTSTART:20221030T010000
END:STANDARD
BEGIN:DAYLIGHT
TZOFFSETFROM:+0000
TZOFFSETTO:+0100
TZNAME:BST
DTSTART:20230326T010000
END:DAYLIGHT
BEGIN:STANDARD
TZOFFSETFROM:+0100
TZOFFSETTO:+0000
TZNAME:GMT
DTSTART:20231029T010000
END:STANDARD
END:VTIMEZONE
BEGIN:VEVENT
DTSTART;VALUE=DATE:20220716
DTEND;VALUE=DATE:20220717
DTSTAMP:20260420T112324
CREATED:20211224T163243Z
LAST-MODIFIED:20211224T163243Z
UID:37476-1657929600-1658015999@themotoringdiary.com
SUMMARY:Civic Cup - Oulton Park
DESCRIPTION:Supporting Time Attack at Tunerfest North. The championship will feature two classes: the Cup Class\, for EP3\, FN2 and FK models manufactured between 2001 and 2011 with a limited number of modifications permitted; and the Production Class\, for EP3 and FN2 Type-R models manufactured between 2001 and 2005.
URL:http://themotoringdiary.com/event/civic-cup-oulton-park/
LOCATION:Oulton Park\, Little Budworth\, Tarporley\, Cheshire\, CW6 9BW\, United Kingdom
CATEGORIES:2022,Civic Cup,Club Motorsport,Maximum Group,Motorsport
ATTACH;FMTTYPE=image/png:http://themotoringdiary.com/wp-content/uploads/2021/11/Civic-Cup.png
GEO:53.1785643;-2.6153266
X-APPLE-STRUCTURED-LOCATION;VALUE=URI;X-ADDRESS=Oulton Park Little Budworth Tarporley Cheshire CW6 9BW United Kingdom;X-APPLE-RADIUS=500;X-TITLE=Little Budworth:geo:-2.6153266,53.1785643
END:VEVENT
END:VCALENDAR