BEGIN:VCALENDAR
VERSION:2.0
PRODID:-//The Motoring Diary - ECPv6.15.20//NONSGML v1.0//EN
CALSCALE:GREGORIAN
METHOD:PUBLISH
X-WR-CALNAME:The Motoring Diary
X-ORIGINAL-URL:http://themotoringdiary.com
X-WR-CALDESC:Events for The Motoring Diary
REFRESH-INTERVAL;VALUE=DURATION:PT1H
X-Robots-Tag:noindex
X-PUBLISHED-TTL:PT1H
BEGIN:VTIMEZONE
TZID:Europe/London
BEGIN:DAYLIGHT
TZOFFSETFROM:+0000
TZOFFSETTO:+0100
TZNAME:BST
DTSTART:20210328T010000
END:DAYLIGHT
BEGIN:STANDARD
TZOFFSETFROM:+0100
TZOFFSETTO:+0000
TZNAME:GMT
DTSTART:20211031T010000
END:STANDARD
BEGIN:DAYLIGHT
TZOFFSETFROM:+0000
TZOFFSETTO:+0100
TZNAME:BST
DTSTART:20220327T010000
END:DAYLIGHT
BEGIN:STANDARD
TZOFFSETFROM:+0100
TZOFFSETTO:+0000
TZNAME:GMT
DTSTART:20221030T010000
END:STANDARD
BEGIN:DAYLIGHT
TZOFFSETFROM:+0000
TZOFFSETTO:+0100
TZNAME:BST
DTSTART:20230326T010000
END:DAYLIGHT
BEGIN:STANDARD
TZOFFSETFROM:+0100
TZOFFSETTO:+0000
TZNAME:GMT
DTSTART:20231029T010000
END:STANDARD
END:VTIMEZONE
BEGIN:VEVENT
DTSTART;VALUE=DATE:20220618
DTEND;VALUE=DATE:20220620
DTSTAMP:20260421T101617
CREATED:20211230T093947Z
LAST-MODIFIED:20211230T095631Z
UID:37548-1655510400-1655683199@themotoringdiary.com
SUMMARY:BRSCC Caterham Race Weekend At Silverstone
DESCRIPTION:An action packed race weekend on the Grand Prix Circuit\, featuring Caterham Motorsport\, Britcar and ZEO Prototypes!
URL:http://themotoringdiary.com/event/brscc-caterham-race-weekend-at-silverstone/
LOCATION:Silverstone Circuit\, Silverstone\, Towcester\, Northamptonshire\, NN12 8TN\, United Kingdom
CATEGORIES:2022,BRSCC,Club Motorsport,Motorsport
ATTACH;FMTTYPE=image/png:http://themotoringdiary.com/wp-content/uploads/2021/12/BRSCC.png
ORGANIZER;CN="BRSCC":MAILTO:enquiries@brscc.co.uk
GEO:52.0746186;-1.0228666
X-APPLE-STRUCTURED-LOCATION;VALUE=URI;X-ADDRESS=Silverstone Circuit Silverstone Towcester Northamptonshire NN12 8TN United Kingdom;X-APPLE-RADIUS=500;X-TITLE=Silverstone:geo:-1.0228666,52.0746186
END:VEVENT
END:VCALENDAR