BEGIN:VCALENDAR
VERSION:2.0
PRODID:-//The Motoring Diary - ECPv6.15.20//NONSGML v1.0//EN
CALSCALE:GREGORIAN
METHOD:PUBLISH
X-WR-CALNAME:The Motoring Diary
X-ORIGINAL-URL:http://themotoringdiary.com
X-WR-CALDESC:Events for The Motoring Diary
REFRESH-INTERVAL;VALUE=DURATION:PT1H
X-Robots-Tag:noindex
X-PUBLISHED-TTL:PT1H
BEGIN:VTIMEZONE
TZID:Europe/London
BEGIN:DAYLIGHT
TZOFFSETFROM:+0000
TZOFFSETTO:+0100
TZNAME:BST
DTSTART:20210328T010000
END:DAYLIGHT
BEGIN:STANDARD
TZOFFSETFROM:+0100
TZOFFSETTO:+0000
TZNAME:GMT
DTSTART:20211031T010000
END:STANDARD
BEGIN:DAYLIGHT
TZOFFSETFROM:+0000
TZOFFSETTO:+0100
TZNAME:BST
DTSTART:20220327T010000
END:DAYLIGHT
BEGIN:STANDARD
TZOFFSETFROM:+0100
TZOFFSETTO:+0000
TZNAME:GMT
DTSTART:20221030T010000
END:STANDARD
BEGIN:DAYLIGHT
TZOFFSETFROM:+0000
TZOFFSETTO:+0100
TZNAME:BST
DTSTART:20230326T010000
END:DAYLIGHT
BEGIN:STANDARD
TZOFFSETFROM:+0100
TZOFFSETTO:+0000
TZNAME:GMT
DTSTART:20231029T010000
END:STANDARD
END:VTIMEZONE
BEGIN:VEVENT
DTSTART;VALUE=DATE:20220409
DTEND;VALUE=DATE:20220411
DTSTAMP:20260425T160050
CREATED:20211230T093944Z
LAST-MODIFIED:20211230T095625Z
UID:37542-1649462400-1649635199@themotoringdiary.com
SUMMARY:BRSCC Caterham Brands Hatch Race Weekend
DESCRIPTION:Caterham Motorsport kick off another season of racing for 2022 at their local circuit of Brands Hatch in Kent on the Indy layout\, with the Roadsport\, 270R\, 310R and Seven Championship UK series all getting underway alongside a supporting cast of the Fiesta Championship\, Fiesta Junior Championship\, Modified Ford Series\, Nankang Tyre BMW Compact Cup and the Track Attack Race Club.
URL:http://themotoringdiary.com/event/brscc-caterham-brands-hatch-race-weekend/
LOCATION:Brands Hatch\, West Kingsdown\, Longfield\, Kent\, DA3 8PU\, United Kingdom
CATEGORIES:2022,BRSCC,Club Motorsport,Motorsport
ATTACH;FMTTYPE=image/png:http://themotoringdiary.com/wp-content/uploads/2021/12/BRSCC.png
ORGANIZER;CN="BRSCC":MAILTO:enquiries@brscc.co.uk
GEO:51.3611377;0.264664
X-APPLE-STRUCTURED-LOCATION;VALUE=URI;X-ADDRESS=Brands Hatch West Kingsdown Longfield Kent DA3 8PU United Kingdom;X-APPLE-RADIUS=500;X-TITLE=West Kingsdown:geo:0.264664,51.3611377
END:VEVENT
END:VCALENDAR