BEGIN:VCALENDAR
VERSION:2.0
PRODID:-//The Motoring Diary - ECPv6.15.20//NONSGML v1.0//EN
CALSCALE:GREGORIAN
METHOD:PUBLISH
X-WR-CALNAME:The Motoring Diary
X-ORIGINAL-URL:http://themotoringdiary.com
X-WR-CALDESC:Events for The Motoring Diary
REFRESH-INTERVAL;VALUE=DURATION:PT1H
X-Robots-Tag:noindex
X-PUBLISHED-TTL:PT1H
BEGIN:VTIMEZONE
TZID:Europe/London
BEGIN:DAYLIGHT
TZOFFSETFROM:+0000
TZOFFSETTO:+0100
TZNAME:BST
DTSTART:20210328T010000
END:DAYLIGHT
BEGIN:STANDARD
TZOFFSETFROM:+0100
TZOFFSETTO:+0000
TZNAME:GMT
DTSTART:20211031T010000
END:STANDARD
BEGIN:DAYLIGHT
TZOFFSETFROM:+0000
TZOFFSETTO:+0100
TZNAME:BST
DTSTART:20220327T010000
END:DAYLIGHT
BEGIN:STANDARD
TZOFFSETFROM:+0100
TZOFFSETTO:+0000
TZNAME:GMT
DTSTART:20221030T010000
END:STANDARD
BEGIN:DAYLIGHT
TZOFFSETFROM:+0000
TZOFFSETTO:+0100
TZNAME:BST
DTSTART:20230326T010000
END:DAYLIGHT
BEGIN:STANDARD
TZOFFSETFROM:+0100
TZOFFSETTO:+0000
TZNAME:GMT
DTSTART:20231029T010000
END:STANDARD
END:VTIMEZONE
BEGIN:VEVENT
DTSTART;TZID=Europe/London:20220618T100000
DTEND;TZID=Europe/London:20220619T170000
DTSTAMP:20260423T111958
CREATED:20211230T132056Z
LAST-MODIFIED:20211230T133333Z
UID:37670-1655546400-1655658000@themotoringdiary.com
SUMMARY:Brooklands Festival Of Motorsport
DESCRIPTION:Come and enjoy this two-day extravaganza\, featuring the three Double Twelve Competition events\, Test Hill ascents\, great food\, music and entertainment for the whole family.\nThe event celebrates Brooklands’ rich motoring and motorsport history\, and is always held on the weekend closest to the anniversary of the original opening of the race track on the 17th June 1907. \nSoak up the atmosphere of the site and see both current and vintage cars competing on the Speed Trials at Mercedes-Benz World on Saturday and then on the Driving Tests on Sunday\, on the Banking and the Finishing Straight. If you prefer to be able to walk around and study your classic cars\, then the “Pride of Brooklands” Concours may be the thing for you\, including casting your vote for the “Visitors Choice” award on the day. \nBoth days will feature festival fun on the Museum site\, with live music\, car and motor club displays and family entertainment.
URL:http://themotoringdiary.com/event/brooklands-festival-of-motorsport/
LOCATION:Brooklands Museum\, Brooklands Road\, Weybridge\, Surrey\, KT13 0QN\, United Kingdom
CATEGORIES:2022,Brooklands,Club Motorsport,Motorsport,Museums
ATTACH;FMTTYPE=image/jpeg:http://themotoringdiary.com/wp-content/uploads/2021/11/Brooklands-Double-12.jpg
ORGANIZER;CN="Brooklands Museum":MAILTO:talks@brooklandsmembers.co.uk
GEO:51.3518475;-0.459869
X-APPLE-STRUCTURED-LOCATION;VALUE=URI;X-ADDRESS=Brooklands Museum Brooklands Road Weybridge Surrey KT13 0QN United Kingdom;X-APPLE-RADIUS=500;X-TITLE=Brooklands Road:geo:-0.459869,51.3518475
END:VEVENT
END:VCALENDAR