BEGIN:VCALENDAR
VERSION:2.0
PRODID:-//The Motoring Diary - ECPv6.15.20//NONSGML v1.0//EN
CALSCALE:GREGORIAN
METHOD:PUBLISH
X-WR-CALNAME:The Motoring Diary
X-ORIGINAL-URL:http://themotoringdiary.com
X-WR-CALDESC:Events for The Motoring Diary
REFRESH-INTERVAL;VALUE=DURATION:PT1H
X-Robots-Tag:noindex
X-PUBLISHED-TTL:PT1H
BEGIN:VTIMEZONE
TZID:Europe/London
BEGIN:DAYLIGHT
TZOFFSETFROM:+0000
TZOFFSETTO:+0100
TZNAME:BST
DTSTART:20220327T010000
END:DAYLIGHT
BEGIN:STANDARD
TZOFFSETFROM:+0100
TZOFFSETTO:+0000
TZNAME:GMT
DTSTART:20221030T010000
END:STANDARD
BEGIN:DAYLIGHT
TZOFFSETFROM:+0000
TZOFFSETTO:+0100
TZNAME:BST
DTSTART:20230326T010000
END:DAYLIGHT
BEGIN:STANDARD
TZOFFSETFROM:+0100
TZOFFSETTO:+0000
TZNAME:GMT
DTSTART:20231029T010000
END:STANDARD
BEGIN:DAYLIGHT
TZOFFSETFROM:+0000
TZOFFSETTO:+0100
TZNAME:BST
DTSTART:20240331T010000
END:DAYLIGHT
BEGIN:STANDARD
TZOFFSETFROM:+0100
TZOFFSETTO:+0000
TZNAME:GMT
DTSTART:20241027T010000
END:STANDARD
END:VTIMEZONE
BEGIN:VEVENT
DTSTART;TZID=Europe/London:20231008T090000
DTEND;TZID=Europe/London:20231008T170000
DTSTAMP:20260423T173729
CREATED:20230301T170655Z
LAST-MODIFIED:20230301T170655Z
UID:40315-1696755600-1696784400@themotoringdiary.com
SUMMARY:Brooklands Autumn Motorsport Day
DESCRIPTION:Get a double helping of motor action at the Museum’s celebration of motorsport.\nCompetition cars from all ages will be put through their paces on the adjacent Mercedes-Benz World circuit and later in the day\, Test Hill will be in action. Expect to see a wide variety of competition cars from GTs to Touring cars and Group B rally cars. As ever\, spectators will have the rare opportunity to see and hear competition cars at close quarters.
URL:http://themotoringdiary.com/event/brooklands-autumn-motorsport-day-2/
LOCATION:Brooklands Museum\, Brooklands Road\, Weybridge\, Surrey\, KT13 0QN\, United Kingdom
CATEGORIES:2023,Brooklands,Club Motorsport,Motorsport,Museums,Shows
ATTACH;FMTTYPE=image/png:http://themotoringdiary.com/wp-content/uploads/2023/03/Brooklands-3Qdy3o.tmp_.png
GEO:51.3518475;-0.459869
X-APPLE-STRUCTURED-LOCATION;VALUE=URI;X-ADDRESS=Brooklands Museum Brooklands Road Weybridge Surrey KT13 0QN United Kingdom;X-APPLE-RADIUS=500;X-TITLE=Brooklands Road:geo:-0.459869,51.3518475
END:VEVENT
END:VCALENDAR