BEGIN:VCALENDAR
VERSION:2.0
PRODID:-//The Motoring Diary - ECPv6.15.20//NONSGML v1.0//EN
CALSCALE:GREGORIAN
METHOD:PUBLISH
X-WR-CALNAME:The Motoring Diary
X-ORIGINAL-URL:http://themotoringdiary.com
X-WR-CALDESC:Events for The Motoring Diary
REFRESH-INTERVAL;VALUE=DURATION:PT1H
X-Robots-Tag:noindex
X-PUBLISHED-TTL:PT1H
BEGIN:VTIMEZONE
TZID:Europe/London
BEGIN:DAYLIGHT
TZOFFSETFROM:+0000
TZOFFSETTO:+0100
TZNAME:BST
DTSTART:20220327T010000
END:DAYLIGHT
BEGIN:STANDARD
TZOFFSETFROM:+0100
TZOFFSETTO:+0000
TZNAME:GMT
DTSTART:20221030T010000
END:STANDARD
BEGIN:DAYLIGHT
TZOFFSETFROM:+0000
TZOFFSETTO:+0100
TZNAME:BST
DTSTART:20230326T010000
END:DAYLIGHT
BEGIN:STANDARD
TZOFFSETFROM:+0100
TZOFFSETTO:+0000
TZNAME:GMT
DTSTART:20231029T010000
END:STANDARD
BEGIN:DAYLIGHT
TZOFFSETFROM:+0000
TZOFFSETTO:+0100
TZNAME:BST
DTSTART:20240331T010000
END:DAYLIGHT
BEGIN:STANDARD
TZOFFSETFROM:+0100
TZOFFSETTO:+0000
TZNAME:GMT
DTSTART:20241027T010000
END:STANDARD
END:VTIMEZONE
BEGIN:VEVENT
DTSTART;VALUE=DATE:20230512
DTEND;VALUE=DATE:20230515
DTSTAMP:20260423T160526
CREATED:20230301T173058Z
LAST-MODIFIED:20230301T173058Z
UID:40363-1683849600-1684108799@themotoringdiary.com
SUMMARY:British Kart Championship - Rotax
DESCRIPTION:The Mini Max\, Junior Max\, Senior Max and Rotax 177** will do battle over an expanded roster of six meetings and seven intense rounds in-line with feedback received from championship competitors. Two brand new venues have been added to the calendar and the season will also host the Micro Max Grand Final Qualifiers during the year.\nThe superb PF International will kick off the season for the Rotax classes in May before moving to Scotland’s Larkhall in June. Warden Law hosts the third encounter in July before a trip to the South West and Clay Pigeon in August. Kimbolton takes racers into September before the grand finale’ takes place at Whilton Mill in October.
URL:http://themotoringdiary.com/event/british-kart-championship-rotax-8/
LOCATION:Kimbolton (Hunts Kart Racing Club)\, The Old Airfield\, Stow Longa\, Kimbolton\, Cambridgeshire\, PE28 0EY\, United Kingdom
CATEGORIES:2023,British Kart Championship,Karting,Motorsport,Motorsport UK
ATTACH;FMTTYPE=image/jpeg:http://themotoringdiary.com/wp-content/uploads/2022/01/Karting-Rotax.jpg
ORGANIZER;CN="British Kart Championship":MAILTO:danielle.short@motorsportuk.org
GEO:52.3122057;-0.3815476
X-APPLE-STRUCTURED-LOCATION;VALUE=URI;X-ADDRESS=Kimbolton (Hunts Kart Racing Club) The Old Airfield Stow Longa Kimbolton Cambridgeshire PE28 0EY United Kingdom;X-APPLE-RADIUS=500;X-TITLE=The Old Airfield\, Stow Longa:geo:-0.3815476,52.3122057
END:VEVENT
END:VCALENDAR