BEGIN:VCALENDAR
VERSION:2.0
PRODID:-//The Motoring Diary - ECPv6.15.20//NONSGML v1.0//EN
CALSCALE:GREGORIAN
METHOD:PUBLISH
X-WR-CALNAME:The Motoring Diary
X-ORIGINAL-URL:http://themotoringdiary.com
X-WR-CALDESC:Events for The Motoring Diary
REFRESH-INTERVAL;VALUE=DURATION:PT1H
X-Robots-Tag:noindex
X-PUBLISHED-TTL:PT1H
BEGIN:VTIMEZONE
TZID:Europe/London
BEGIN:DAYLIGHT
TZOFFSETFROM:+0000
TZOFFSETTO:+0100
TZNAME:BST
DTSTART:20220327T010000
END:DAYLIGHT
BEGIN:STANDARD
TZOFFSETFROM:+0100
TZOFFSETTO:+0000
TZNAME:GMT
DTSTART:20221030T010000
END:STANDARD
BEGIN:DAYLIGHT
TZOFFSETFROM:+0000
TZOFFSETTO:+0100
TZNAME:BST
DTSTART:20230326T010000
END:DAYLIGHT
BEGIN:STANDARD
TZOFFSETFROM:+0100
TZOFFSETTO:+0000
TZNAME:GMT
DTSTART:20231029T010000
END:STANDARD
BEGIN:DAYLIGHT
TZOFFSETFROM:+0000
TZOFFSETTO:+0100
TZNAME:BST
DTSTART:20240331T010000
END:DAYLIGHT
BEGIN:STANDARD
TZOFFSETFROM:+0100
TZOFFSETTO:+0000
TZNAME:GMT
DTSTART:20241027T010000
END:STANDARD
END:VTIMEZONE
BEGIN:VEVENT
DTSTART;VALUE=DATE:20230428
DTEND;VALUE=DATE:20230501
DTSTAMP:20260421T101723
CREATED:20230301T173041Z
LAST-MODIFIED:20230301T173041Z
UID:40355-1682640000-1682899199@themotoringdiary.com
SUMMARY:British Kart Championship - IAME
DESCRIPTION:The IAME Cadet\, Mini X30\, Junior X30 and Senior X30 contenders will battle it out over six blistering weekends and seven rounds with an expanded season in-line with feedback received from championship competitors to offer an action-packed campaign. Three brand new venues have been added in an exciting prospect for championship protagonists.\nThe popular Shenington circuit in Oxfordshire kicks off the season in April before a trip to the North East at Warden Law in May. GYG (Glan Y Gors) offers a trip into the heart of Wales in June before Rissington takes contenders to the Cotswolds a few weeks later.  Whilton Mill hosts the penultimate round in August before the double-header finale’\, played out at the popular PF International at the end of September.
URL:http://themotoringdiary.com/event/british-kart-championship-iame-7/
LOCATION:PF International Kart Circuit\, Stragglethorpe Lane\, Brandon\, Grantham\, Lincolnshire\, NG32 2AY\, United Kingdom
CATEGORIES:2023,British Kart Championship,Karting,Motorsport,Motorsport UK
ATTACH;FMTTYPE=image/jpeg:http://themotoringdiary.com/wp-content/uploads/2022/01/Karting-IAME.jpg
ORGANIZER;CN="British Kart Championship":MAILTO:danielle.short@motorsportuk.org
GEO:53.0429947;-0.6455657
X-APPLE-STRUCTURED-LOCATION;VALUE=URI;X-ADDRESS=PF International Kart Circuit Stragglethorpe Lane Brandon Grantham Lincolnshire NG32 2AY United Kingdom;X-APPLE-RADIUS=500;X-TITLE=Stragglethorpe Lane:geo:-0.6455657,53.0429947
END:VEVENT
END:VCALENDAR