BEGIN:VCALENDAR
VERSION:2.0
PRODID:-//The Motoring Diary - ECPv6.15.20//NONSGML v1.0//EN
CALSCALE:GREGORIAN
METHOD:PUBLISH
X-WR-CALNAME:The Motoring Diary
X-ORIGINAL-URL:http://themotoringdiary.com
X-WR-CALDESC:Events for The Motoring Diary
REFRESH-INTERVAL;VALUE=DURATION:PT1H
X-Robots-Tag:noindex
X-PUBLISHED-TTL:PT1H
BEGIN:VTIMEZONE
TZID:Europe/London
BEGIN:DAYLIGHT
TZOFFSETFROM:+0000
TZOFFSETTO:+0100
TZNAME:BST
DTSTART:20220327T010000
END:DAYLIGHT
BEGIN:STANDARD
TZOFFSETFROM:+0100
TZOFFSETTO:+0000
TZNAME:GMT
DTSTART:20221030T010000
END:STANDARD
BEGIN:DAYLIGHT
TZOFFSETFROM:+0000
TZOFFSETTO:+0100
TZNAME:BST
DTSTART:20230326T010000
END:DAYLIGHT
BEGIN:STANDARD
TZOFFSETFROM:+0100
TZOFFSETTO:+0000
TZNAME:GMT
DTSTART:20231029T010000
END:STANDARD
BEGIN:DAYLIGHT
TZOFFSETFROM:+0000
TZOFFSETTO:+0100
TZNAME:BST
DTSTART:20240331T010000
END:DAYLIGHT
BEGIN:STANDARD
TZOFFSETFROM:+0100
TZOFFSETTO:+0000
TZNAME:GMT
DTSTART:20241027T010000
END:STANDARD
END:VTIMEZONE
BEGIN:VEVENT
DTSTART;VALUE=DATE:20230825
DTEND;VALUE=DATE:20230828
DTSTAMP:20260425T192631
CREATED:20230301T173509Z
LAST-MODIFIED:20230301T173509Z
UID:40375-1692921600-1693180799@themotoringdiary.com
SUMMARY:British Kart Championship - Honda
DESCRIPTION:The popular Honda Cadet class will tackle an expanded roster of six meetings and seven intense rounds in-line with feedback received from championship competitors as Whilton Mill hosts a thrilling final round double header.\nThe superb PF International will kick off the season for the Honda Cadets in May before moving to Scotland’s Larkhall in June. Warden Law hosts the third encounter in July before a trip to the South West and Clay Pigeon in August. Kimbolton takes racers into September before the grand finale’ takes place at Whilton Mill in October.
URL:http://themotoringdiary.com/event/british-kart-championship-honda-10/
LOCATION:Larkhall\, Merryton Road\, Larkhall\, Scotland\, ML9 2UL\, United Kingdom
CATEGORIES:2023,British Kart Championship,Karting,Motorsport,Motorsport UK
ATTACH;FMTTYPE=image/jpeg:http://themotoringdiary.com/wp-content/uploads/2022/01/Karting-Honda.jpg
ORGANIZER;CN="British Kart Championship":MAILTO:danielle.short@motorsportuk.org
GEO:55.753594;-3.9791155
X-APPLE-STRUCTURED-LOCATION;VALUE=URI;X-ADDRESS=Larkhall Merryton Road Larkhall Scotland ML9 2UL United Kingdom;X-APPLE-RADIUS=500;X-TITLE=Merryton Road:geo:-3.9791155,55.753594
END:VEVENT
END:VCALENDAR