BEGIN:VCALENDAR
VERSION:2.0
PRODID:-//The Motoring Diary - ECPv6.15.20//NONSGML v1.0//EN
CALSCALE:GREGORIAN
METHOD:PUBLISH
X-WR-CALNAME:The Motoring Diary
X-ORIGINAL-URL:http://themotoringdiary.com
X-WR-CALDESC:Events for The Motoring Diary
REFRESH-INTERVAL;VALUE=DURATION:PT1H
X-Robots-Tag:noindex
X-PUBLISHED-TTL:PT1H
BEGIN:VTIMEZONE
TZID:Europe/London
BEGIN:DAYLIGHT
TZOFFSETFROM:+0000
TZOFFSETTO:+0100
TZNAME:BST
DTSTART:20210328T010000
END:DAYLIGHT
BEGIN:STANDARD
TZOFFSETFROM:+0100
TZOFFSETTO:+0000
TZNAME:GMT
DTSTART:20211031T010000
END:STANDARD
BEGIN:DAYLIGHT
TZOFFSETFROM:+0000
TZOFFSETTO:+0100
TZNAME:BST
DTSTART:20220327T010000
END:DAYLIGHT
BEGIN:STANDARD
TZOFFSETFROM:+0100
TZOFFSETTO:+0000
TZNAME:GMT
DTSTART:20221030T010000
END:STANDARD
BEGIN:DAYLIGHT
TZOFFSETFROM:+0000
TZOFFSETTO:+0100
TZNAME:BST
DTSTART:20230326T010000
END:DAYLIGHT
BEGIN:STANDARD
TZOFFSETFROM:+0100
TZOFFSETTO:+0000
TZNAME:GMT
DTSTART:20231029T010000
END:STANDARD
END:VTIMEZONE
BEGIN:VEVENT
DTSTART;VALUE=DATE:20220604
DTEND;VALUE=DATE:20220605
DTSTAMP:20260420T142220
CREATED:20220104T085449Z
LAST-MODIFIED:20220104T085449Z
UID:37845-1654300800-1654387199@themotoringdiary.com
SUMMARY:British Hill Climb Championship
DESCRIPTION:
URL:http://themotoringdiary.com/event/british-hill-climb-championship-5/
LOCATION:Shelsley Walsh Speed Hill Climb\, Shelsley Walsh\, Worcester\, Worcestershire\, WR6 6RP\, United Kingdom
CATEGORIES:2022,BARC,British Automobile Racing Club,British Hill Climb,Hill Climbs,Motorsport
ATTACH;FMTTYPE=image/png:http://themotoringdiary.com/wp-content/uploads/2021/11/British-Hill-Climb-Championship-1.png
ORGANIZER;CN="British Automobile Racing Club (BARC)":MAILTO:info@barc.net
GEO:52.265542;-2.409403
X-APPLE-STRUCTURED-LOCATION;VALUE=URI;X-ADDRESS=Shelsley Walsh Speed Hill Climb Shelsley Walsh Worcester Worcestershire WR6 6RP United Kingdom;X-APPLE-RADIUS=500;X-TITLE=Shelsley Walsh:geo:-2.409403,52.265542
END:VEVENT
END:VCALENDAR