BEGIN:VCALENDAR
VERSION:2.0
PRODID:-//The Motoring Diary - ECPv6.15.20//NONSGML v1.0//EN
CALSCALE:GREGORIAN
METHOD:PUBLISH
X-WR-CALNAME:The Motoring Diary
X-ORIGINAL-URL:http://themotoringdiary.com
X-WR-CALDESC:Events for The Motoring Diary
REFRESH-INTERVAL;VALUE=DURATION:PT1H
X-Robots-Tag:noindex
X-PUBLISHED-TTL:PT1H
BEGIN:VTIMEZONE
TZID:Europe/London
BEGIN:DAYLIGHT
TZOFFSETFROM:+0000
TZOFFSETTO:+0100
TZNAME:BST
DTSTART:20210328T010000
END:DAYLIGHT
BEGIN:STANDARD
TZOFFSETFROM:+0100
TZOFFSETTO:+0000
TZNAME:GMT
DTSTART:20211031T010000
END:STANDARD
BEGIN:DAYLIGHT
TZOFFSETFROM:+0000
TZOFFSETTO:+0100
TZNAME:BST
DTSTART:20220327T010000
END:DAYLIGHT
BEGIN:STANDARD
TZOFFSETFROM:+0100
TZOFFSETTO:+0000
TZNAME:GMT
DTSTART:20221030T010000
END:STANDARD
BEGIN:DAYLIGHT
TZOFFSETFROM:+0000
TZOFFSETTO:+0100
TZNAME:BST
DTSTART:20230326T010000
END:DAYLIGHT
BEGIN:STANDARD
TZOFFSETFROM:+0100
TZOFFSETTO:+0000
TZNAME:GMT
DTSTART:20231029T010000
END:STANDARD
END:VTIMEZONE
BEGIN:VEVENT
DTSTART;VALUE=DATE:20220924
DTEND;VALUE=DATE:20220926
DTSTAMP:20260421T113217
CREATED:20220104T085510Z
LAST-MODIFIED:20220104T085510Z
UID:37853-1663977600-1664150399@themotoringdiary.com
SUMMARY:British Hill Climb Championship
DESCRIPTION:
URL:http://themotoringdiary.com/event/british-hill-climb-championship-13/
LOCATION:Loton Park Speed Hill Climb\, Alberbury\, Shrewsbury\, Shropshire\, SY5 9AG\, United Kingdom
CATEGORIES:2022,BARC,British Automobile Racing Club,British Hill Climb,Hill Climbs,Motorsport
ATTACH;FMTTYPE=image/png:http://themotoringdiary.com/wp-content/uploads/2021/11/British-Hill-Climb-Championship-1.png
ORGANIZER;CN="British Automobile Racing Club (BARC)":MAILTO:info@barc.net
GEO:52.7225527;-2.9488012
X-APPLE-STRUCTURED-LOCATION;VALUE=URI;X-ADDRESS=Loton Park Speed Hill Climb Alberbury Shrewsbury Shropshire SY5 9AG United Kingdom;X-APPLE-RADIUS=500;X-TITLE=Alberbury:geo:-2.9488012,52.7225527
END:VEVENT
END:VCALENDAR