BEGIN:VCALENDAR
VERSION:2.0
PRODID:-//The Motoring Diary - ECPv6.15.20//NONSGML v1.0//EN
CALSCALE:GREGORIAN
METHOD:PUBLISH
X-WR-CALNAME:The Motoring Diary
X-ORIGINAL-URL:http://themotoringdiary.com
X-WR-CALDESC:Events for The Motoring Diary
REFRESH-INTERVAL;VALUE=DURATION:PT1H
X-Robots-Tag:noindex
X-PUBLISHED-TTL:PT1H
BEGIN:VTIMEZONE
TZID:Europe/London
BEGIN:DAYLIGHT
TZOFFSETFROM:+0000
TZOFFSETTO:+0100
TZNAME:BST
DTSTART:20220327T010000
END:DAYLIGHT
BEGIN:STANDARD
TZOFFSETFROM:+0100
TZOFFSETTO:+0000
TZNAME:GMT
DTSTART:20221030T010000
END:STANDARD
BEGIN:DAYLIGHT
TZOFFSETFROM:+0000
TZOFFSETTO:+0100
TZNAME:BST
DTSTART:20230326T010000
END:DAYLIGHT
BEGIN:STANDARD
TZOFFSETFROM:+0100
TZOFFSETTO:+0000
TZNAME:GMT
DTSTART:20231029T010000
END:STANDARD
BEGIN:DAYLIGHT
TZOFFSETFROM:+0000
TZOFFSETTO:+0100
TZNAME:BST
DTSTART:20240331T010000
END:DAYLIGHT
BEGIN:STANDARD
TZOFFSETFROM:+0100
TZOFFSETTO:+0000
TZNAME:GMT
DTSTART:20241027T010000
END:STANDARD
END:VTIMEZONE
BEGIN:VEVENT
DTSTART;VALUE=DATE:20230203
DTEND;VALUE=DATE:20230206
DTSTAMP:20260422T113010
CREATED:20230124T114703Z
LAST-MODIFIED:20230124T114703Z
UID:39754-1675382400-1675641599@themotoringdiary.com
SUMMARY:Bremen Classic Motor Show
DESCRIPTION:
URL:http://themotoringdiary.com/event/bremen-classic-motor-show-2/
LOCATION:Messe Bremen\, Findorffstrasse 101\, Bremen\, 28215\, Germany
CATEGORIES:2023,Classic Car Shows,Shows
ATTACH;FMTTYPE=image/png:http://themotoringdiary.com/wp-content/uploads/2023/01/Bremen-Classic-1-a8IDOX.tmp_.png
GEO:53.0889429;8.8118102
X-APPLE-STRUCTURED-LOCATION;VALUE=URI;X-ADDRESS=Messe Bremen Findorffstrasse 101 Bremen 28215 Germany;X-APPLE-RADIUS=500;X-TITLE=Findorffstrasse 101:geo:8.8118102,53.0889429
END:VEVENT
END:VCALENDAR