BEGIN:VCALENDAR
VERSION:2.0
PRODID:-//The Motoring Diary - ECPv6.15.20//NONSGML v1.0//EN
CALSCALE:GREGORIAN
METHOD:PUBLISH
X-WR-CALNAME:The Motoring Diary
X-ORIGINAL-URL:http://themotoringdiary.com
X-WR-CALDESC:Events for The Motoring Diary
REFRESH-INTERVAL;VALUE=DURATION:PT1H
X-Robots-Tag:noindex
X-PUBLISHED-TTL:PT1H
BEGIN:VTIMEZONE
TZID:Europe/London
BEGIN:DAYLIGHT
TZOFFSETFROM:+0000
TZOFFSETTO:+0100
TZNAME:BST
DTSTART:20210328T010000
END:DAYLIGHT
BEGIN:STANDARD
TZOFFSETFROM:+0100
TZOFFSETTO:+0000
TZNAME:GMT
DTSTART:20211031T010000
END:STANDARD
BEGIN:DAYLIGHT
TZOFFSETFROM:+0000
TZOFFSETTO:+0100
TZNAME:BST
DTSTART:20220327T010000
END:DAYLIGHT
BEGIN:STANDARD
TZOFFSETFROM:+0100
TZOFFSETTO:+0000
TZNAME:GMT
DTSTART:20221030T010000
END:STANDARD
BEGIN:DAYLIGHT
TZOFFSETFROM:+0000
TZOFFSETTO:+0100
TZNAME:BST
DTSTART:20230326T010000
END:DAYLIGHT
BEGIN:STANDARD
TZOFFSETFROM:+0100
TZOFFSETTO:+0000
TZNAME:GMT
DTSTART:20231029T010000
END:STANDARD
END:VTIMEZONE
BEGIN:VEVENT
DTSTART;VALUE=DATE:20221029
DTEND;VALUE=DATE:20221030
DTSTAMP:20260421T142206
CREATED:20211224T142515Z
LAST-MODIFIED:20211224T142515Z
UID:37395-1667001600-1667087999@themotoringdiary.com
SUMMARY:BRC - Cambrian Rally
DESCRIPTION:Offering the perfect curtain call on the 2022 season\, the Visit Conwy Cambrian Rally retains its October slot and rounds out the British Rally Championship in style. Having the potential to see the champion crowned on the Llandudno seafront\, the event takes contenders through world-class forest stages in North Wales.
URL:http://themotoringdiary.com/event/brc-cambrian-rally/
LOCATION:Llandudno\, Wales\, United Kingdom
CATEGORIES:2022,British Rally Championship,Motorsport,Rallying
ATTACH;FMTTYPE=image/png:http://themotoringdiary.com/wp-content/uploads/2021/11/British-Rally-Championship.png
GEO:52.1306607;-3.7837117
END:VEVENT
END:VCALENDAR