BEGIN:VCALENDAR
VERSION:2.0
PRODID:-//The Motoring Diary - ECPv6.15.20//NONSGML v1.0//EN
CALSCALE:GREGORIAN
METHOD:PUBLISH
X-WR-CALNAME:The Motoring Diary
X-ORIGINAL-URL:http://themotoringdiary.com
X-WR-CALDESC:Events for The Motoring Diary
REFRESH-INTERVAL;VALUE=DURATION:PT1H
X-Robots-Tag:noindex
X-PUBLISHED-TTL:PT1H
BEGIN:VTIMEZONE
TZID:Europe/London
BEGIN:DAYLIGHT
TZOFFSETFROM:+0000
TZOFFSETTO:+0100
TZNAME:BST
DTSTART:20210328T010000
END:DAYLIGHT
BEGIN:STANDARD
TZOFFSETFROM:+0100
TZOFFSETTO:+0000
TZNAME:GMT
DTSTART:20211031T010000
END:STANDARD
BEGIN:DAYLIGHT
TZOFFSETFROM:+0000
TZOFFSETTO:+0100
TZNAME:BST
DTSTART:20220327T010000
END:DAYLIGHT
BEGIN:STANDARD
TZOFFSETFROM:+0100
TZOFFSETTO:+0000
TZNAME:GMT
DTSTART:20221030T010000
END:STANDARD
BEGIN:DAYLIGHT
TZOFFSETFROM:+0000
TZOFFSETTO:+0100
TZNAME:BST
DTSTART:20230326T010000
END:DAYLIGHT
BEGIN:STANDARD
TZOFFSETFROM:+0100
TZOFFSETTO:+0000
TZNAME:GMT
DTSTART:20231029T010000
END:STANDARD
END:VTIMEZONE
BEGIN:VEVENT
DTSTART;VALUE=DATE:20220113
DTEND;VALUE=DATE:20220117
DTSTAMP:20260422T170005
CREATED:20211223T170308Z
LAST-MODIFIED:20220110T090013Z
UID:36790-1642032000-1642377599@themotoringdiary.com
SUMMARY:Autosport International (POSTPONED)
DESCRIPTION:(POSTPONED) This annual pre-season event covers all areas of motorsport\, both professional and grass roots\, from karting right up to Formula One. Featuring the very latest in motorsport\, automotive and performance engineering technology\, alongside cars and exhibitors from every level of motor racing\, this must-attend event uniquely caters for the industry and motorsport fans alike; encompassing two trade-only days for members of the motorsport industry to meet\, network and do business and two days for enthusiasts to see the fastest cars\, biggest stars and most amazing live action.
URL:http://themotoringdiary.com/event/autosport-international/
LOCATION:NEC\, Birmingham\, B40 1NT\, United Kingdom
CATEGORIES:2022,Motorsport Network,Shows
ATTACH;FMTTYPE=image/jpeg:http://themotoringdiary.com/wp-content/uploads/2021/11/Autosport-International.jpg
GEO:52.4525855;-1.7134871
END:VEVENT
END:VCALENDAR