BEGIN:VCALENDAR
VERSION:2.0
PRODID:-//The Motoring Diary - ECPv6.15.20//NONSGML v1.0//EN
CALSCALE:GREGORIAN
METHOD:PUBLISH
X-WR-CALNAME:The Motoring Diary
X-ORIGINAL-URL:http://themotoringdiary.com
X-WR-CALDESC:Events for The Motoring Diary
REFRESH-INTERVAL;VALUE=DURATION:PT1H
X-Robots-Tag:noindex
X-PUBLISHED-TTL:PT1H
BEGIN:VTIMEZONE
TZID:Europe/London
BEGIN:DAYLIGHT
TZOFFSETFROM:+0000
TZOFFSETTO:+0100
TZNAME:BST
DTSTART:20220327T010000
END:DAYLIGHT
BEGIN:STANDARD
TZOFFSETFROM:+0100
TZOFFSETTO:+0000
TZNAME:GMT
DTSTART:20221030T010000
END:STANDARD
BEGIN:DAYLIGHT
TZOFFSETFROM:+0000
TZOFFSETTO:+0100
TZNAME:BST
DTSTART:20230326T010000
END:DAYLIGHT
BEGIN:STANDARD
TZOFFSETFROM:+0100
TZOFFSETTO:+0000
TZNAME:GMT
DTSTART:20231029T010000
END:STANDARD
BEGIN:DAYLIGHT
TZOFFSETFROM:+0000
TZOFFSETTO:+0100
TZNAME:BST
DTSTART:20240331T010000
END:DAYLIGHT
BEGIN:STANDARD
TZOFFSETFROM:+0100
TZOFFSETTO:+0000
TZNAME:GMT
DTSTART:20241027T010000
END:STANDARD
END:VTIMEZONE
BEGIN:VEVENT
DTSTART;VALUE=DATE:20230218
DTEND;VALUE=DATE:20230219
DTSTAMP:20260420T095411
CREATED:20230124T114508Z
LAST-MODIFIED:20230124T114508Z
UID:39750-1676678400-1676764799@themotoringdiary.com
SUMMARY:Asian Le Mans Series -Race 3
DESCRIPTION:
URL:http://themotoringdiary.com/event/asian-le-mans-series-race-3-2/
LOCATION:Yas Marina Circuit\, Yas Island\, Abu Dhabi
CATEGORIES:2023,Alms,Motorsport,sportcars
ATTACH;FMTTYPE=image/png:http://themotoringdiary.com/wp-content/uploads/2023/01/ALMS-logo-rfIMWZ.tmp_.png
GEO:24.4958385;54.6040121
X-APPLE-STRUCTURED-LOCATION;VALUE=URI;X-ADDRESS=Yas Marina Circuit Yas Island Abu Dhabi;X-APPLE-RADIUS=500;X-TITLE=Yas Island:geo:54.6040121,24.4958385
END:VEVENT
END:VCALENDAR